Workbook

Sheet Deployment
A1: Security Guard Deployment Sheet
A2: Agency
A3: Month / Year
A4: Operations Manager
A5: Template by Attend Mitra (www.attendmitra.com) - free to use and modify.
A7: Client | B7: Site Address | C7: Post | D7: Shift Timing | E7: Sanctioned Strength | F7: Deployed Guards (names) | G7: Deployed Count | H7: Supervisor | I7: Reliever | J7: Weapon (Y/N) | K7: Start Date | L7: Remarks
G8: =IF(F8="",0,LEN(F8)-LEN(SUBSTITUTE(F8,",",""))+1)
G9: =IF(F9="",0,LEN(F9)-LEN(SUBSTITUTE(F9,",",""))+1)
G10: =IF(F10="",0,LEN(F10)-LEN(SUBSTITUTE(F10,",",""))+1)
G11: =IF(F11="",0,LEN(F11)-LEN(SUBSTITUTE(F11,",",""))+1)
G12: =IF(F12="",0,LEN(F12)-LEN(SUBSTITUTE(F12,",",""))+1)
G13: =IF(F13="",0,LEN(F13)-LEN(SUBSTITUTE(F13,",",""))+1)
G14: =IF(F14="",0,LEN(F14)-LEN(SUBSTITUTE(F14,",",""))+1)
G15: =IF(F15="",0,LEN(F15)-LEN(SUBSTITUTE(F15,",",""))+1)
G16: =IF(F16="",0,LEN(F16)-LEN(SUBSTITUTE(F16,",",""))+1)
G17: =IF(F17="",0,LEN(F17)-LEN(SUBSTITUTE(F17,",",""))+1)
G18: =IF(F18="",0,LEN(F18)-LEN(SUBSTITUTE(F18,",",""))+1)
G19: =IF(F19="",0,LEN(F19)-LEN(SUBSTITUTE(F19,",",""))+1)
... G47: =IF(F47="",0,LEN(F47)-LEN(SUBSTITUTE(F47,",",""))+1)

Sheet Strength Summary
A1: Client | B1: Sanctioned (sum) | C1: Deployed (sum) | D1: Vacant | E1: Fill %
B2: =IF(A2="","",SUMIF(Deployment!$A$6:$A$200,A2,Deployment!$E$6:$E$200)) | C2: =IF(A2="","",SUMIF(Deployment!$A$6:$A$200,A2,Deployment!$G$6:$G$200)) | D2: =IF(A2="","",B2-C2) | E2: =IF(OR(A2="",B2=0),"",ROUND(C2/B2*100,1))
B3: =IF(A3="","",SUMIF(Deployment!$A$6:$A$200,A3,Deployment!$E$6:$E$200)) | C3: =IF(A3="","",SUMIF(Deployment!$A$6:$A$200,A3,Deployment!$G$6:$G$200)) | D3: =IF(A3="","",B3-C3) | E3: =IF(OR(A3="",B3=0),"",ROUND(C3/B3*100,1))
B4: =IF(A4="","",SUMIF(Deployment!$A$6:$A$200,A4,Deployment!$E$6:$E$200)) | C4: =IF(A4="","",SUMIF(Deployment!$A$6:$A$200,A4,Deployment!$G$6:$G$200)) | D4: =IF(A4="","",B4-C4) | E4: =IF(OR(A4="",B4=0),"",ROUND(C4/B4*100,1))
B5: =IF(A5="","",SUMIF(Deployment!$A$6:$A$200,A5,Deployment!$E$6:$E$200)) | C5: =IF(A5="","",SUMIF(Deployment!$A$6:$A$200,A5,Deployment!$G$6:$G$200)) | D5: =IF(A5="","",B5-C5) | E5: =IF(OR(A5="",B5=0),"",ROUND(C5/B5*100,1))
B6: =IF(A6="","",SUMIF(Deployment!$A$6:$A$200,A6,Deployment!$E$6:$E$200)) | C6: =IF(A6="","",SUMIF(Deployment!$A$6:$A$200,A6,Deployment!$G$6:$G$200)) | D6: =IF(A6="","",B6-C6) | E6: =IF(OR(A6="",B6=0),"",ROUND(C6/B6*100,1))
B7: =IF(A7="","",SUMIF(Deployment!$A$6:$A$200,A7,Deployment!$E$6:$E$200)) | C7: =IF(A7="","",SUMIF(Deployment!$A$6:$A$200,A7,Deployment!$G$6:$G$200)) | D7: =IF(A7="","",B7-C7) | E7: =IF(OR(A7="",B7=0),"",ROUND(C7/B7*100,1))
B8: =IF(A8="","",SUMIF(Deployment!$A$6:$A$200,A8,Deployment!$E$6:$E$200)) | C8: =IF(A8="","",SUMIF(Deployment!$A$6:$A$200,A8,Deployment!$G$6:$G$200)) | D8: =IF(A8="","",B8-C8) | E8: =IF(OR(A8="",B8=0),"",ROUND(C8/B8*100,1))
B9: =IF(A9="","",SUMIF(Deployment!$A$6:$A$200,A9,Deployment!$E$6:$E$200)) | C9: =IF(A9="","",SUMIF(Deployment!$A$6:$A$200,A9,Deployment!$G$6:$G$200)) | D9: =IF(A9="","",B9-C9) | E9: =IF(OR(A9="",B9=0),"",ROUND(C9/B9*100,1))
B10: =IF(A10="","",SUMIF(Deployment!$A$6:$A$200,A10,Deployment!$E$6:$E$200)) | C10: =IF(A10="","",SUMIF(Deployment!$A$6:$A$200,A10,Deployment!$G$6:$G$200)) | D10: =IF(A10="","",B10-C10) | E10: =IF(OR(A10="",B10=0),"",ROUND(C10/B10*100,1))
B11: =IF(A11="","",SUMIF(Deployment!$A$6:$A$200,A11,Deployment!$E$6:$E$200)) | C11: =IF(A11="","",SUMIF(Deployment!$A$6:$A$200,A11,Deployment!$G$6:$G$200)) | D11: =IF(A11="","",B11-C11) | E11: =IF(OR(A11="",B11=0),"",ROUND(C11/B11*100,1))
B12: =IF(A12="","",SUMIF(Deployment!$A$6:$A$200,A12,Deployment!$E$6:$E$200)) | C12: =IF(A12="","",SUMIF(Deployment!$A$6:$A$200,A12,Deployment!$G$6:$G$200)) | D12: =IF(A12="","",B12-C12) | E12: =IF(OR(A12="",B12=0),"",ROUND(C12/B12*100,1))
B13: =IF(A13="","",SUMIF(Deployment!$A$6:$A$200,A13,Deployment!$E$6:$E$200)) | C13: =IF(A13="","",SUMIF(Deployment!$A$6:$A$200,A13,Deployment!$G$6:$G$200)) | D13: =IF(A13="","",B13-C13) | E13: =IF(OR(A13="",B13=0),"",ROUND(C13/B13*100,1))
... B16: =IF(A16="","",SUMIF(Deployment!$A$6:$A$200,A16,Deployment!$E$6:$E$200)) | C16: =IF(A16="","",SUMIF(Deployment!$A$6:$A$200,A16,Deployment!$G$6:$G$200)) | D16: =IF(A16="","",B16-C16) | E16: =IF(OR(A16="",B16=0),"",ROUND(C16/B16*100,1))
