Workbook

Sheet Staff Register
A1: School Staff Attendance Register
A2: School
A3: Month / Year
A4: Principal
A5: Template by Attend Mitra (www.attendmitra.com) - free to use and modify.
A7: Sr | B7: Staff Name | C7: Designation (Teaching / Non-teaching) | D7: 1 | E7: 2 | F7: 3 | G7: 4 | H7: 5 | I7: 6 | J7: 7 | K7: 8 | L7: 9 | M7: 10 | N7: 11 | O7: 12 | P7: 13 | Q7: 14 | R7: 15 | S7: 16 | T7: 17 | U7: 18 | V7: 19 | W7: 20 | X7: 21 | Y7: 22 | Z7: 23 | AA7: 24 | AB7: 25 | AC7: 26 | AD7: 27 | AE7: 28 | AF7: 29 | AG7: 30 | AH7: 31 | AI7: Count P | AJ7: Count A | AK7: Count CL | AL7: Count EL | AM7: Count ML | AN7: Count DL | AO7: Count H | AP7: Signature
A8: 1 | AI8: =COUNTIF(D8:AH8,"P") | AJ8: =COUNTIF(D8:AH8,"A") | AK8: =COUNTIF(D8:AH8,"CL") | AL8: =COUNTIF(D8:AH8,"EL") | AM8: =COUNTIF(D8:AH8,"ML") | AN8: =COUNTIF(D8:AH8,"DL") | AO8: =COUNTIF(D8:AH8,"H")
A9: 2 | AI9: =COUNTIF(D9:AH9,"P") | AJ9: =COUNTIF(D9:AH9,"A") | AK9: =COUNTIF(D9:AH9,"CL") | AL9: =COUNTIF(D9:AH9,"EL") | AM9: =COUNTIF(D9:AH9,"ML") | AN9: =COUNTIF(D9:AH9,"DL") | AO9: =COUNTIF(D9:AH9,"H")
A10: 3 | AI10: =COUNTIF(D10:AH10,"P") | AJ10: =COUNTIF(D10:AH10,"A") | AK10: =COUNTIF(D10:AH10,"CL") | AL10: =COUNTIF(D10:AH10,"EL") | AM10: =COUNTIF(D10:AH10,"ML") | AN10: =COUNTIF(D10:AH10,"DL") | AO10: =COUNTIF(D10:AH10,"H")
A11: 4 | AI11: =COUNTIF(D11:AH11,"P") | AJ11: =COUNTIF(D11:AH11,"A") | AK11: =COUNTIF(D11:AH11,"CL") | AL11: =COUNTIF(D11:AH11,"EL") | AM11: =COUNTIF(D11:AH11,"ML") | AN11: =COUNTIF(D11:AH11,"DL") | AO11: =COUNTIF(D11:AH11,"H")
A12: 5 | AI12: =COUNTIF(D12:AH12,"P") | AJ12: =COUNTIF(D12:AH12,"A") | AK12: =COUNTIF(D12:AH12,"CL") | AL12: =COUNTIF(D12:AH12,"EL") | AM12: =COUNTIF(D12:AH12,"ML") | AN12: =COUNTIF(D12:AH12,"DL") | AO12: =COUNTIF(D12:AH12,"H")
A13: 6 | AI13: =COUNTIF(D13:AH13,"P") | AJ13: =COUNTIF(D13:AH13,"A") | AK13: =COUNTIF(D13:AH13,"CL") | AL13: =COUNTIF(D13:AH13,"EL") | AM13: =COUNTIF(D13:AH13,"ML") | AN13: =COUNTIF(D13:AH13,"DL") | AO13: =COUNTIF(D13:AH13,"H")
A14: 7 | AI14: =COUNTIF(D14:AH14,"P") | AJ14: =COUNTIF(D14:AH14,"A") | AK14: =COUNTIF(D14:AH14,"CL") | AL14: =COUNTIF(D14:AH14,"EL") | AM14: =COUNTIF(D14:AH14,"ML") | AN14: =COUNTIF(D14:AH14,"DL") | AO14: =COUNTIF(D14:AH14,"H")
A15: 8 | AI15: =COUNTIF(D15:AH15,"P") | AJ15: =COUNTIF(D15:AH15,"A") | AK15: =COUNTIF(D15:AH15,"CL") | AL15: =COUNTIF(D15:AH15,"EL") | AM15: =COUNTIF(D15:AH15,"ML") | AN15: =COUNTIF(D15:AH15,"DL") | AO15: =COUNTIF(D15:AH15,"H")
A16: 9 | AI16: =COUNTIF(D16:AH16,"P") | AJ16: =COUNTIF(D16:AH16,"A") | AK16: =COUNTIF(D16:AH16,"CL") | AL16: =COUNTIF(D16:AH16,"EL") | AM16: =COUNTIF(D16:AH16,"ML") | AN16: =COUNTIF(D16:AH16,"DL") | AO16: =COUNTIF(D16:AH16,"H")
A17: 10 | AI17: =COUNTIF(D17:AH17,"P") | AJ17: =COUNTIF(D17:AH17,"A") | AK17: =COUNTIF(D17:AH17,"CL") | AL17: =COUNTIF(D17:AH17,"EL") | AM17: =COUNTIF(D17:AH17,"ML") | AN17: =COUNTIF(D17:AH17,"DL") | AO17: =COUNTIF(D17:AH17,"H")
A18: 11 | AI18: =COUNTIF(D18:AH18,"P") | AJ18: =COUNTIF(D18:AH18,"A") | AK18: =COUNTIF(D18:AH18,"CL") | AL18: =COUNTIF(D18:AH18,"EL") | AM18: =COUNTIF(D18:AH18,"ML") | AN18: =COUNTIF(D18:AH18,"DL") | AO18: =COUNTIF(D18:AH18,"H")
A19: 12 | AI19: =COUNTIF(D19:AH19,"P") | AJ19: =COUNTIF(D19:AH19,"A") | AK19: =COUNTIF(D19:AH19,"CL") | AL19: =COUNTIF(D19:AH19,"EL") | AM19: =COUNTIF(D19:AH19,"ML") | AN19: =COUNTIF(D19:AH19,"DL") | AO19: =COUNTIF(D19:AH19,"H")
... A47: 40 | AI47: =COUNTIF(D47:AH47,"P") | AJ47: =COUNTIF(D47:AH47,"A") | AK47: =COUNTIF(D47:AH47,"CL") | AL47: =COUNTIF(D47:AH47,"EL") | AM47: =COUNTIF(D47:AH47,"ML") | AN47: =COUNTIF(D47:AH47,"DL") | AO47: =COUNTIF(D47:AH47,"H")

Sheet Leave Summary
A1: Staff Name | B1: CL Entitlement | C1: CL Taken (this month) | D1: CL Balance | E1: EL Entitlement | F1: EL Taken (this month) | G1: EL Balance
C2: =IF(A2="","",SUMIF('Staff Register'!$B$6:$B$200,A2,'Staff Register'!$AK$6:$AK$200)) | D2: =IF(A2="","",B2-C2) | F2: =IF(A2="","",SUMIF('Staff Register'!$B$6:$B$200,A2,'Staff Register'!$AL$6:$AL$200)) | G2: =IF(A2="","",E2-F2)
C3: =IF(A3="","",SUMIF('Staff Register'!$B$6:$B$200,A3,'Staff Register'!$AK$6:$AK$200)) | D3: =IF(A3="","",B3-C3) | F3: =IF(A3="","",SUMIF('Staff Register'!$B$6:$B$200,A3,'Staff Register'!$AL$6:$AL$200)) | G3: =IF(A3="","",E3-F3)
C4: =IF(A4="","",SUMIF('Staff Register'!$B$6:$B$200,A4,'Staff Register'!$AK$6:$AK$200)) | D4: =IF(A4="","",B4-C4) | F4: =IF(A4="","",SUMIF('Staff Register'!$B$6:$B$200,A4,'Staff Register'!$AL$6:$AL$200)) | G4: =IF(A4="","",E4-F4)
C5: =IF(A5="","",SUMIF('Staff Register'!$B$6:$B$200,A5,'Staff Register'!$AK$6:$AK$200)) | D5: =IF(A5="","",B5-C5) | F5: =IF(A5="","",SUMIF('Staff Register'!$B$6:$B$200,A5,'Staff Register'!$AL$6:$AL$200)) | G5: =IF(A5="","",E5-F5)
C6: =IF(A6="","",SUMIF('Staff Register'!$B$6:$B$200,A6,'Staff Register'!$AK$6:$AK$200)) | D6: =IF(A6="","",B6-C6) | F6: =IF(A6="","",SUMIF('Staff Register'!$B$6:$B$200,A6,'Staff Register'!$AL$6:$AL$200)) | G6: =IF(A6="","",E6-F6)
C7: =IF(A7="","",SUMIF('Staff Register'!$B$6:$B$200,A7,'Staff Register'!$AK$6:$AK$200)) | D7: =IF(A7="","",B7-C7) | F7: =IF(A7="","",SUMIF('Staff Register'!$B$6:$B$200,A7,'Staff Register'!$AL$6:$AL$200)) | G7: =IF(A7="","",E7-F7)
C8: =IF(A8="","",SUMIF('Staff Register'!$B$6:$B$200,A8,'Staff Register'!$AK$6:$AK$200)) | D8: =IF(A8="","",B8-C8) | F8: =IF(A8="","",SUMIF('Staff Register'!$B$6:$B$200,A8,'Staff Register'!$AL$6:$AL$200)) | G8: =IF(A8="","",E8-F8)
C9: =IF(A9="","",SUMIF('Staff Register'!$B$6:$B$200,A9,'Staff Register'!$AK$6:$AK$200)) | D9: =IF(A9="","",B9-C9) | F9: =IF(A9="","",SUMIF('Staff Register'!$B$6:$B$200,A9,'Staff Register'!$AL$6:$AL$200)) | G9: =IF(A9="","",E9-F9)
C10: =IF(A10="","",SUMIF('Staff Register'!$B$6:$B$200,A10,'Staff Register'!$AK$6:$AK$200)) | D10: =IF(A10="","",B10-C10) | F10: =IF(A10="","",SUMIF('Staff Register'!$B$6:$B$200,A10,'Staff Register'!$AL$6:$AL$200)) | G10: =IF(A10="","",E10-F10)
C11: =IF(A11="","",SUMIF('Staff Register'!$B$6:$B$200,A11,'Staff Register'!$AK$6:$AK$200)) | D11: =IF(A11="","",B11-C11) | F11: =IF(A11="","",SUMIF('Staff Register'!$B$6:$B$200,A11,'Staff Register'!$AL$6:$AL$200)) | G11: =IF(A11="","",E11-F11)
C12: =IF(A12="","",SUMIF('Staff Register'!$B$6:$B$200,A12,'Staff Register'!$AK$6:$AK$200)) | D12: =IF(A12="","",B12-C12) | F12: =IF(A12="","",SUMIF('Staff Register'!$B$6:$B$200,A12,'Staff Register'!$AL$6:$AL$200)) | G12: =IF(A12="","",E12-F12)
C13: =IF(A13="","",SUMIF('Staff Register'!$B$6:$B$200,A13,'Staff Register'!$AK$6:$AK$200)) | D13: =IF(A13="","",B13-C13) | F13: =IF(A13="","",SUMIF('Staff Register'!$B$6:$B$200,A13,'Staff Register'!$AL$6:$AL$200)) | G13: =IF(A13="","",E13-F13)
... C41: =IF(A41="","",SUMIF('Staff Register'!$B$6:$B$200,A41,'Staff Register'!$AK$6:$AK$200)) | D41: =IF(A41="","",B41-C41) | F41: =IF(A41="","",SUMIF('Staff Register'!$B$6:$B$200,A41,'Staff Register'!$AL$6:$AL$200)) | G41: =IF(A41="","",E41-F41)

Sheet Codes
A1: Code | B1: Meaning | C1: Counts as
A2: P | B2: Present | C2: 1
A3: A | B3: Absent | C3: 0
A4: CL | B4: Casual leave | C4: Paid
A5: EL | B5: Earned leave | C5: Paid
A6: ML | B6: Medical leave | C6: Paid per policy
A7: DL | B7: Duty leave (exam duty, training) | C7: Paid
A8: H | B8: Holiday / vacation | C8: Paid
