Workbook

Sheet Settings
A1: Setting | B1: Value
A2: PF wage ceiling (from 17 Sep 2026) | B2: 25000
A3: Employee PF rate | B3: 0.12
A4: Employer PF rate (EPF+EPS) | B4: 0.12
A5: EPS share of employer PF | B5: 0.0833
A6: EDLI + admin charges | B6: 0.01
A7: ESI wage ceiling | B7: 21000
A8: Employee ESI rate | B8: 0.0075
A9: Employer ESI rate | B9: 0.0325
A10: OT multiplier | B10: 2
A11: Hours per day | B11: 8
A12: Divisor days for daily rate | B12: 26

Sheet Salary Sheet
A1: Salary Sheet with Formulas
A2: Company
A3: Month / Year
A4: Days in month | B4: 30
A5: Template by Attend Mitra (www.attendmitra.com) - free to use and modify.
A7: Emp ID | B7: Name | C7: Designation | D7: Days in Month | E7: Paid Days | F7: LOP Days | G7: Basic | H7: DA | I7: HRA | J7: Other Allowance | K7: Gross (fixed) | L7: Earned Basic | M7: Earned DA | N7: Earned Gross | O7: OT Hours | P7: OT Amount | Q7: Total Earnings | R7: PF Employee | S7: ESI Employee | T7: PT | U7: TDS | V7: Advance | W7: Total Deductions | X7: Net Pay | Y7: Employer PF | Z7: Employer ESI | AA7: Monthly CTC
D8: =$B$4 | F8: =IF(E8="","",D8-E8) | K8: =SUM(G8:J8) | L8: =IF(E8="","",ROUND(G8*E8/D8,0)) | M8: =IF(E8="","",ROUND(H8*E8/D8,0)) | N8: =IF(E8="","",ROUND(K8*E8/D8,0)) | P8: =IF(O8="",0,ROUND(O8*(K8/Settings!$B$12/Settings!$B$11)*Settings!$B$10,0)) | Q8: =IF(N8="","",N8+P8) | R8: =IF(L8="","",ROUND(MIN(L8+M8,Settings!$B$2)*Settings!$B$3,0)) | S8: =IF(K8="","",IF(K8<=Settings!$B$7,ROUNDUP(N8*Settings!$B$8,0),0)) | W8: =IF(Q8="","",SUM(R8:V8)) | X8: =IF(Q8="","",Q8-W8) | Y8: =IF(L8="","",ROUND(MIN(L8+M8,Settings!$B$2)*(Settings!$B$4+Settings!$B$6),0)) | Z8: =IF(K8="","",IF(K8<=Settings!$B$7,ROUNDUP(N8*Settings!$B$9,0),0)) | AA8: =IF(Q8="","",Q8+Y8+Z8)
D9: =$B$4 | F9: =IF(E9="","",D9-E9) | K9: =SUM(G9:J9) | L9: =IF(E9="","",ROUND(G9*E9/D9,0)) | M9: =IF(E9="","",ROUND(H9*E9/D9,0)) | N9: =IF(E9="","",ROUND(K9*E9/D9,0)) | P9: =IF(O9="",0,ROUND(O9*(K9/Settings!$B$12/Settings!$B$11)*Settings!$B$10,0)) | Q9: =IF(N9="","",N9+P9) | R9: =IF(L9="","",ROUND(MIN(L9+M9,Settings!$B$2)*Settings!$B$3,0)) | S9: =IF(K9="","",IF(K9<=Settings!$B$7,ROUNDUP(N9*Settings!$B$8,0),0)) | W9: =IF(Q9="","",SUM(R9:V9)) | X9: =IF(Q9="","",Q9-W9) | Y9: =IF(L9="","",ROUND(MIN(L9+M9,Settings!$B$2)*(Settings!$B$4+Settings!$B$6),0)) | Z9: =IF(K9="","",IF(K9<=Settings!$B$7,ROUNDUP(N9*Settings!$B$9,0),0)) | AA9: =IF(Q9="","",Q9+Y9+Z9)
D10: =$B$4 | F10: =IF(E10="","",D10-E10) | K10: =SUM(G10:J10) | L10: =IF(E10="","",ROUND(G10*E10/D10,0)) | M10: =IF(E10="","",ROUND(H10*E10/D10,0)) | N10: =IF(E10="","",ROUND(K10*E10/D10,0)) | P10: =IF(O10="",0,ROUND(O10*(K10/Settings!$B$12/Settings!$B$11)*Settings!$B$10,0)) | Q10: =IF(N10="","",N10+P10) | R10: =IF(L10="","",ROUND(MIN(L10+M10,Settings!$B$2)*Settings!$B$3,0)) | S10: =IF(K10="","",IF(K10<=Settings!$B$7,ROUNDUP(N10*Settings!$B$8,0),0)) | W10: =IF(Q10="","",SUM(R10:V10)) | X10: =IF(Q10="","",Q10-W10) | Y10: =IF(L10="","",ROUND(MIN(L10+M10,Settings!$B$2)*(Settings!$B$4+Settings!$B$6),0)) | Z10: =IF(K10="","",IF(K10<=Settings!$B$7,ROUNDUP(N10*Settings!$B$9,0),0)) | AA10: =IF(Q10="","",Q10+Y10+Z10)
D11: =$B$4 | F11: =IF(E11="","",D11-E11) | K11: =SUM(G11:J11) | L11: =IF(E11="","",ROUND(G11*E11/D11,0)) | M11: =IF(E11="","",ROUND(H11*E11/D11,0)) | N11: =IF(E11="","",ROUND(K11*E11/D11,0)) | P11: =IF(O11="",0,ROUND(O11*(K11/Settings!$B$12/Settings!$B$11)*Settings!$B$10,0)) | Q11: =IF(N11="","",N11+P11) | R11: =IF(L11="","",ROUND(MIN(L11+M11,Settings!$B$2)*Settings!$B$3,0)) | S11: =IF(K11="","",IF(K11<=Settings!$B$7,ROUNDUP(N11*Settings!$B$8,0),0)) | W11: =IF(Q11="","",SUM(R11:V11)) | X11: =IF(Q11="","",Q11-W11) | Y11: =IF(L11="","",ROUND(MIN(L11+M11,Settings!$B$2)*(Settings!$B$4+Settings!$B$6),0)) | Z11: =IF(K11="","",IF(K11<=Settings!$B$7,ROUNDUP(N11*Settings!$B$9,0),0)) | AA11: =IF(Q11="","",Q11+Y11+Z11)
D12: =$B$4 | F12: =IF(E12="","",D12-E12) | K12: =SUM(G12:J12) | L12: =IF(E12="","",ROUND(G12*E12/D12,0)) | M12: =IF(E12="","",ROUND(H12*E12/D12,0)) | N12: =IF(E12="","",ROUND(K12*E12/D12,0)) | P12: =IF(O12="",0,ROUND(O12*(K12/Settings!$B$12/Settings!$B$11)*Settings!$B$10,0)) | Q12: =IF(N12="","",N12+P12) | R12: =IF(L12="","",ROUND(MIN(L12+M12,Settings!$B$2)*Settings!$B$3,0)) | S12: =IF(K12="","",IF(K12<=Settings!$B$7,ROUNDUP(N12*Settings!$B$8,0),0)) | W12: =IF(Q12="","",SUM(R12:V12)) | X12: =IF(Q12="","",Q12-W12) | Y12: =IF(L12="","",ROUND(MIN(L12+M12,Settings!$B$2)*(Settings!$B$4+Settings!$B$6),0)) | Z12: =IF(K12="","",IF(K12<=Settings!$B$7,ROUNDUP(N12*Settings!$B$9,0),0)) | AA12: =IF(Q12="","",Q12+Y12+Z12)
D13: =$B$4 | F13: =IF(E13="","",D13-E13) | K13: =SUM(G13:J13) | L13: =IF(E13="","",ROUND(G13*E13/D13,0)) | M13: =IF(E13="","",ROUND(H13*E13/D13,0)) | N13: =IF(E13="","",ROUND(K13*E13/D13,0)) | P13: =IF(O13="",0,ROUND(O13*(K13/Settings!$B$12/Settings!$B$11)*Settings!$B$10,0)) | Q13: =IF(N13="","",N13+P13) | R13: =IF(L13="","",ROUND(MIN(L13+M13,Settings!$B$2)*Settings!$B$3,0)) | S13: =IF(K13="","",IF(K13<=Settings!$B$7,ROUNDUP(N13*Settings!$B$8,0),0)) | W13: =IF(Q13="","",SUM(R13:V13)) | X13: =IF(Q13="","",Q13-W13) | Y13: =IF(L13="","",ROUND(MIN(L13+M13,Settings!$B$2)*(Settings!$B$4+Settings!$B$6),0)) | Z13: =IF(K13="","",IF(K13<=Settings!$B$7,ROUNDUP(N13*Settings!$B$9,0),0)) | AA13: =IF(Q13="","",Q13+Y13+Z13)
D14: =$B$4 | F14: =IF(E14="","",D14-E14) | K14: =SUM(G14:J14) | L14: =IF(E14="","",ROUND(G14*E14/D14,0)) | M14: =IF(E14="","",ROUND(H14*E14/D14,0)) | N14: =IF(E14="","",ROUND(K14*E14/D14,0)) | P14: =IF(O14="",0,ROUND(O14*(K14/Settings!$B$12/Settings!$B$11)*Settings!$B$10,0)) | Q14: =IF(N14="","",N14+P14) | R14: =IF(L14="","",ROUND(MIN(L14+M14,Settings!$B$2)*Settings!$B$3,0)) | S14: =IF(K14="","",IF(K14<=Settings!$B$7,ROUNDUP(N14*Settings!$B$8,0),0)) | W14: =IF(Q14="","",SUM(R14:V14)) | X14: =IF(Q14="","",Q14-W14) | Y14: =IF(L14="","",ROUND(MIN(L14+M14,Settings!$B$2)*(Settings!$B$4+Settings!$B$6),0)) | Z14: =IF(K14="","",IF(K14<=Settings!$B$7,ROUNDUP(N14*Settings!$B$9,0),0)) | AA14: =IF(Q14="","",Q14+Y14+Z14)
D15: =$B$4 | F15: =IF(E15="","",D15-E15) | K15: =SUM(G15:J15) | L15: =IF(E15="","",ROUND(G15*E15/D15,0)) | M15: =IF(E15="","",ROUND(H15*E15/D15,0)) | N15: =IF(E15="","",ROUND(K15*E15/D15,0)) | P15: =IF(O15="",0,ROUND(O15*(K15/Settings!$B$12/Settings!$B$11)*Settings!$B$10,0)) | Q15: =IF(N15="","",N15+P15) | R15: =IF(L15="","",ROUND(MIN(L15+M15,Settings!$B$2)*Settings!$B$3,0)) | S15: =IF(K15="","",IF(K15<=Settings!$B$7,ROUNDUP(N15*Settings!$B$8,0),0)) | W15: =IF(Q15="","",SUM(R15:V15)) | X15: =IF(Q15="","",Q15-W15) | Y15: =IF(L15="","",ROUND(MIN(L15+M15,Settings!$B$2)*(Settings!$B$4+Settings!$B$6),0)) | Z15: =IF(K15="","",IF(K15<=Settings!$B$7,ROUNDUP(N15*Settings!$B$9,0),0)) | AA15: =IF(Q15="","",Q15+Y15+Z15)
D16: =$B$4 | F16: =IF(E16="","",D16-E16) | K16: =SUM(G16:J16) | L16: =IF(E16="","",ROUND(G16*E16/D16,0)) | M16: =IF(E16="","",ROUND(H16*E16/D16,0)) | N16: =IF(E16="","",ROUND(K16*E16/D16,0)) | P16: =IF(O16="",0,ROUND(O16*(K16/Settings!$B$12/Settings!$B$11)*Settings!$B$10,0)) | Q16: =IF(N16="","",N16+P16) | R16: =IF(L16="","",ROUND(MIN(L16+M16,Settings!$B$2)*Settings!$B$3,0)) | S16: =IF(K16="","",IF(K16<=Settings!$B$7,ROUNDUP(N16*Settings!$B$8,0),0)) | W16: =IF(Q16="","",SUM(R16:V16)) | X16: =IF(Q16="","",Q16-W16) | Y16: =IF(L16="","",ROUND(MIN(L16+M16,Settings!$B$2)*(Settings!$B$4+Settings!$B$6),0)) | Z16: =IF(K16="","",IF(K16<=Settings!$B$7,ROUNDUP(N16*Settings!$B$9,0),0)) | AA16: =IF(Q16="","",Q16+Y16+Z16)
D17: =$B$4 | F17: =IF(E17="","",D17-E17) | K17: =SUM(G17:J17) | L17: =IF(E17="","",ROUND(G17*E17/D17,0)) | M17: =IF(E17="","",ROUND(H17*E17/D17,0)) | N17: =IF(E17="","",ROUND(K17*E17/D17,0)) | P17: =IF(O17="",0,ROUND(O17*(K17/Settings!$B$12/Settings!$B$11)*Settings!$B$10,0)) | Q17: =IF(N17="","",N17+P17) | R17: =IF(L17="","",ROUND(MIN(L17+M17,Settings!$B$2)*Settings!$B$3,0)) | S17: =IF(K17="","",IF(K17<=Settings!$B$7,ROUNDUP(N17*Settings!$B$8,0),0)) | W17: =IF(Q17="","",SUM(R17:V17)) | X17: =IF(Q17="","",Q17-W17) | Y17: =IF(L17="","",ROUND(MIN(L17+M17,Settings!$B$2)*(Settings!$B$4+Settings!$B$6),0)) | Z17: =IF(K17="","",IF(K17<=Settings!$B$7,ROUNDUP(N17*Settings!$B$9,0),0)) | AA17: =IF(Q17="","",Q17+Y17+Z17)
D18: =$B$4 | F18: =IF(E18="","",D18-E18) | K18: =SUM(G18:J18) | L18: =IF(E18="","",ROUND(G18*E18/D18,0)) | M18: =IF(E18="","",ROUND(H18*E18/D18,0)) | N18: =IF(E18="","",ROUND(K18*E18/D18,0)) | P18: =IF(O18="",0,ROUND(O18*(K18/Settings!$B$12/Settings!$B$11)*Settings!$B$10,0)) | Q18: =IF(N18="","",N18+P18) | R18: =IF(L18="","",ROUND(MIN(L18+M18,Settings!$B$2)*Settings!$B$3,0)) | S18: =IF(K18="","",IF(K18<=Settings!$B$7,ROUNDUP(N18*Settings!$B$8,0),0)) | W18: =IF(Q18="","",SUM(R18:V18)) | X18: =IF(Q18="","",Q18-W18) | Y18: =IF(L18="","",ROUND(MIN(L18+M18,Settings!$B$2)*(Settings!$B$4+Settings!$B$6),0)) | Z18: =IF(K18="","",IF(K18<=Settings!$B$7,ROUNDUP(N18*Settings!$B$9,0),0)) | AA18: =IF(Q18="","",Q18+Y18+Z18)
D19: =$B$4 | F19: =IF(E19="","",D19-E19) | K19: =SUM(G19:J19) | L19: =IF(E19="","",ROUND(G19*E19/D19,0)) | M19: =IF(E19="","",ROUND(H19*E19/D19,0)) | N19: =IF(E19="","",ROUND(K19*E19/D19,0)) | P19: =IF(O19="",0,ROUND(O19*(K19/Settings!$B$12/Settings!$B$11)*Settings!$B$10,0)) | Q19: =IF(N19="","",N19+P19) | R19: =IF(L19="","",ROUND(MIN(L19+M19,Settings!$B$2)*Settings!$B$3,0)) | S19: =IF(K19="","",IF(K19<=Settings!$B$7,ROUNDUP(N19*Settings!$B$8,0),0)) | W19: =IF(Q19="","",SUM(R19:V19)) | X19: =IF(Q19="","",Q19-W19) | Y19: =IF(L19="","",ROUND(MIN(L19+M19,Settings!$B$2)*(Settings!$B$4+Settings!$B$6),0)) | Z19: =IF(K19="","",IF(K19<=Settings!$B$7,ROUNDUP(N19*Settings!$B$9,0),0)) | AA19: =IF(Q19="","",Q19+Y19+Z19)
... D47: =$B$4 | F47: =IF(E47="","",D47-E47) | K47: =SUM(G47:J47) | L47: =IF(E47="","",ROUND(G47*E47/D47,0)) | M47: =IF(E47="","",ROUND(H47*E47/D47,0)) | N47: =IF(E47="","",ROUND(K47*E47/D47,0)) | P47: =IF(O47="",0,ROUND(O47*(K47/Settings!$B$12/Settings!$B$11)*Settings!$B$10,0)) | Q47: =IF(N47="","",N47+P47) | R47: =IF(L47="","",ROUND(MIN(L47+M47,Settings!$B$2)*Settings!$B$3,0)) | S47: =IF(K47="","",IF(K47<=Settings!$B$7,ROUNDUP(N47*Settings!$B$8,0),0)) | W47: =IF(Q47="","",SUM(R47:V47)) | X47: =IF(Q47="","",Q47-W47) | Y47: =IF(L47="","",ROUND(MIN(L47+M47,Settings!$B$2)*(Settings!$B$4+Settings!$B$6),0)) | Z47: =IF(K47="","",IF(K47<=Settings!$B$7,ROUNDUP(N47*Settings!$B$9,0),0)) | AA47: =IF(Q47="","",Q47+Y47+Z47)
B49: TOTAL | K49: =SUM(K8:K47) | L49: =SUM(L8:L47) | M49: =SUM(M8:M47) | N49: =SUM(N8:N47) | O49: =SUM(O8:O47) | P49: =SUM(P8:P47) | Q49: =SUM(Q8:Q47) | R49: =SUM(R8:R47) | ... AA49: =SUM(AA8:AA47)
