Workbook

Sheet Weekly Schedule
A1: Restaurant Staff Schedule (Weekly)
A2: Outlet
A3: Week starting
A4: Hourly rate for cost estimate (₹) | B4: 90
A5: Template by Attend Mitra (www.attendmitra.com) - free to use and modify.
A7: Staff | B7: Role | C7: Mon | D7: Tue | E7: Wed | F7: Thu | G7: Fri | H7: Sat | I7: Sun | J7: Weekly Hours | K7: Est. Labour Cost
J8: =COUNTIF(C8:I8,"Lunch")*5+COUNTIF(C8:I8,"Dinner")*6+COUNTIF(C8:I8,"Split")*9+COUNTIF(C8:I8,"Full")*9 | K8: =J8*$B$4
J9: =COUNTIF(C9:I9,"Lunch")*5+COUNTIF(C9:I9,"Dinner")*6+COUNTIF(C9:I9,"Split")*9+COUNTIF(C9:I9,"Full")*9 | K9: =J9*$B$4
J10: =COUNTIF(C10:I10,"Lunch")*5+COUNTIF(C10:I10,"Dinner")*6+COUNTIF(C10:I10,"Split")*9+COUNTIF(C10:I10,"Full")*9 | K10: =J10*$B$4
J11: =COUNTIF(C11:I11,"Lunch")*5+COUNTIF(C11:I11,"Dinner")*6+COUNTIF(C11:I11,"Split")*9+COUNTIF(C11:I11,"Full")*9 | K11: =J11*$B$4
J12: =COUNTIF(C12:I12,"Lunch")*5+COUNTIF(C12:I12,"Dinner")*6+COUNTIF(C12:I12,"Split")*9+COUNTIF(C12:I12,"Full")*9 | K12: =J12*$B$4
J13: =COUNTIF(C13:I13,"Lunch")*5+COUNTIF(C13:I13,"Dinner")*6+COUNTIF(C13:I13,"Split")*9+COUNTIF(C13:I13,"Full")*9 | K13: =J13*$B$4
J14: =COUNTIF(C14:I14,"Lunch")*5+COUNTIF(C14:I14,"Dinner")*6+COUNTIF(C14:I14,"Split")*9+COUNTIF(C14:I14,"Full")*9 | K14: =J14*$B$4
J15: =COUNTIF(C15:I15,"Lunch")*5+COUNTIF(C15:I15,"Dinner")*6+COUNTIF(C15:I15,"Split")*9+COUNTIF(C15:I15,"Full")*9 | K15: =J15*$B$4
J16: =COUNTIF(C16:I16,"Lunch")*5+COUNTIF(C16:I16,"Dinner")*6+COUNTIF(C16:I16,"Split")*9+COUNTIF(C16:I16,"Full")*9 | K16: =J16*$B$4
J17: =COUNTIF(C17:I17,"Lunch")*5+COUNTIF(C17:I17,"Dinner")*6+COUNTIF(C17:I17,"Split")*9+COUNTIF(C17:I17,"Full")*9 | K17: =J17*$B$4
J18: =COUNTIF(C18:I18,"Lunch")*5+COUNTIF(C18:I18,"Dinner")*6+COUNTIF(C18:I18,"Split")*9+COUNTIF(C18:I18,"Full")*9 | K18: =J18*$B$4
J19: =COUNTIF(C19:I19,"Lunch")*5+COUNTIF(C19:I19,"Dinner")*6+COUNTIF(C19:I19,"Split")*9+COUNTIF(C19:I19,"Full")*9 | K19: =J19*$B$4
... J37: =COUNTIF(C37:I37,"Lunch")*5+COUNTIF(C37:I37,"Dinner")*6+COUNTIF(C37:I37,"Split")*9+COUNTIF(C37:I37,"Full")*9 | K37: =J37*$B$4
A39: Total | J39: =SUM(J8:J37) | K39: =SUM(K8:K37)

Sheet Peak Coverage
A1: Meal period | B1: Mon | C1: Tue | D1: Wed | E1: Thu | F1: Fri | G1: Sat | H1: Sun
A2: Lunch required | B2: 4 | C2: 4 | D2: 4 | E2: 4 | F2: 4 | G2: 4 | H2: 4
A3: Lunch scheduled | B3: =COUNTIF('Weekly Schedule'!C$7:C$36,"Lunch")+COUNTIF('Weekly Schedule'!C$7:C$36,"Split")+COUNTIF('Weekly Schedule'!C$7:C$36,"Full") | C3: =COUNTIF('Weekly Schedule'!D$7:D$36,"Lunch")+COUNTIF('Weekly Schedule'!D$7:D$36,"Split")+COUNTIF('Weekly Schedule'!D$7:D$36,"Full") | D3: =COUNTIF('Weekly Schedule'!E$7:E$36,"Lunch")+COUNTIF('Weekly Schedule'!E$7:E$36,"Split")+COUNTIF('Weekly Schedule'!E$7:E$36,"Full") | E3: =COUNTIF('Weekly Schedule'!F$7:F$36,"Lunch")+COUNTIF('Weekly Schedule'!F$7:F$36,"Split")+COUNTIF('Weekly Schedule'!F$7:F$36,"Full") | F3: =COUNTIF('Weekly Schedule'!G$7:G$36,"Lunch")+COUNTIF('Weekly Schedule'!G$7:G$36,"Split")+COUNTIF('Weekly Schedule'!G$7:G$36,"Full") | G3: =COUNTIF('Weekly Schedule'!H$7:H$36,"Lunch")+COUNTIF('Weekly Schedule'!H$7:H$36,"Split")+COUNTIF('Weekly Schedule'!H$7:H$36,"Full") | H3: =COUNTIF('Weekly Schedule'!I$7:I$36,"Lunch")+COUNTIF('Weekly Schedule'!I$7:I$36,"Split")+COUNTIF('Weekly Schedule'!I$7:I$36,"Full")
A4: Dinner required | B4: 6 | C4: 6 | D4: 6 | E4: 6 | F4: 6 | G4: 6 | H4: 6
A5: Dinner scheduled | B5: =COUNTIF('Weekly Schedule'!C$7:C$36,"Dinner")+COUNTIF('Weekly Schedule'!C$7:C$36,"Split")+COUNTIF('Weekly Schedule'!C$7:C$36,"Full") | C5: =COUNTIF('Weekly Schedule'!D$7:D$36,"Dinner")+COUNTIF('Weekly Schedule'!D$7:D$36,"Split")+COUNTIF('Weekly Schedule'!D$7:D$36,"Full") | D5: =COUNTIF('Weekly Schedule'!E$7:E$36,"Dinner")+COUNTIF('Weekly Schedule'!E$7:E$36,"Split")+COUNTIF('Weekly Schedule'!E$7:E$36,"Full") | E5: =COUNTIF('Weekly Schedule'!F$7:F$36,"Dinner")+COUNTIF('Weekly Schedule'!F$7:F$36,"Split")+COUNTIF('Weekly Schedule'!F$7:F$36,"Full") | F5: =COUNTIF('Weekly Schedule'!G$7:G$36,"Dinner")+COUNTIF('Weekly Schedule'!G$7:G$36,"Split")+COUNTIF('Weekly Schedule'!G$7:G$36,"Full") | G5: =COUNTIF('Weekly Schedule'!H$7:H$36,"Dinner")+COUNTIF('Weekly Schedule'!H$7:H$36,"Split")+COUNTIF('Weekly Schedule'!H$7:H$36,"Full") | H5: =COUNTIF('Weekly Schedule'!I$7:I$36,"Dinner")+COUNTIF('Weekly Schedule'!I$7:I$36,"Split")+COUNTIF('Weekly Schedule'!I$7:I$36,"Full")

Sheet Notes
A1: Shift labels: Lunch 11:00-16:00 (5 h), Dinner 17:00-23:00 (6 h), Split = Lunch + Dinner (9 h), Full 11:00-21:00 with break (9 h). Edit hours in the formulas of column J if your timings differ. Split shifts must respect your state's spread-over limit.
