Workbook

Sheet OT Register
A1: Overtime Register
A2: Company
A3: Month / Year
A4: Default OT multiplier | B4: 2
A5: Template by Attend Mitra (www.attendmitra.com) - free to use and modify.
A7: Date | B7: Emp ID | C7: Name | D7: Department | E7: Shift End | F7: Actual Out | G7: OT Hours | H7: OT Multiplier | I7: Hourly Wage | J7: OT Amount | K7: Approved By
G8: =IF(OR(E8="",F8=""),"",ROUND(MAX(0,MOD(F8-E8,1)*24),2)) | H8: =$B$4 | J8: =IF(OR(G8="",I8=""),"",ROUND(G8*I8*H8,2))
G9: =IF(OR(E9="",F9=""),"",ROUND(MAX(0,MOD(F9-E9,1)*24),2)) | H9: =$B$4 | J9: =IF(OR(G9="",I9=""),"",ROUND(G9*I9*H9,2))
G10: =IF(OR(E10="",F10=""),"",ROUND(MAX(0,MOD(F10-E10,1)*24),2)) | H10: =$B$4 | J10: =IF(OR(G10="",I10=""),"",ROUND(G10*I10*H10,2))
G11: =IF(OR(E11="",F11=""),"",ROUND(MAX(0,MOD(F11-E11,1)*24),2)) | H11: =$B$4 | J11: =IF(OR(G11="",I11=""),"",ROUND(G11*I11*H11,2))
G12: =IF(OR(E12="",F12=""),"",ROUND(MAX(0,MOD(F12-E12,1)*24),2)) | H12: =$B$4 | J12: =IF(OR(G12="",I12=""),"",ROUND(G12*I12*H12,2))
G13: =IF(OR(E13="",F13=""),"",ROUND(MAX(0,MOD(F13-E13,1)*24),2)) | H13: =$B$4 | J13: =IF(OR(G13="",I13=""),"",ROUND(G13*I13*H13,2))
G14: =IF(OR(E14="",F14=""),"",ROUND(MAX(0,MOD(F14-E14,1)*24),2)) | H14: =$B$4 | J14: =IF(OR(G14="",I14=""),"",ROUND(G14*I14*H14,2))
G15: =IF(OR(E15="",F15=""),"",ROUND(MAX(0,MOD(F15-E15,1)*24),2)) | H15: =$B$4 | J15: =IF(OR(G15="",I15=""),"",ROUND(G15*I15*H15,2))
G16: =IF(OR(E16="",F16=""),"",ROUND(MAX(0,MOD(F16-E16,1)*24),2)) | H16: =$B$4 | J16: =IF(OR(G16="",I16=""),"",ROUND(G16*I16*H16,2))
G17: =IF(OR(E17="",F17=""),"",ROUND(MAX(0,MOD(F17-E17,1)*24),2)) | H17: =$B$4 | J17: =IF(OR(G17="",I17=""),"",ROUND(G17*I17*H17,2))
G18: =IF(OR(E18="",F18=""),"",ROUND(MAX(0,MOD(F18-E18,1)*24),2)) | H18: =$B$4 | J18: =IF(OR(G18="",I18=""),"",ROUND(G18*I18*H18,2))
G19: =IF(OR(E19="",F19=""),"",ROUND(MAX(0,MOD(F19-E19,1)*24),2)) | H19: =$B$4 | J19: =IF(OR(G19="",I19=""),"",ROUND(G19*I19*H19,2))
... G87: =IF(OR(E87="",F87=""),"",ROUND(MAX(0,MOD(F87-E87,1)*24),2)) | H87: =$B$4 | J87: =IF(OR(G87="",I87=""),"",ROUND(G87*I87*H87,2))

Sheet Monthly Summary
A1: Emp ID | B1: Name | C1: OT Hours (month) | D1: OT Amount | E1: Monthly cap (hours) | F1: Over cap?
C2: =IF(A2="","",SUMIF('OT Register'!$B$6:$B$200,A2,'OT Register'!$G$6:$G$200)) | D2: =IF(A2="","",SUMIF('OT Register'!$B$6:$B$200,A2,'OT Register'!$J$6:$J$200)) | E2: 50 | F2: =IF(A2="","",IF(C2>E2,"YES","No"))
C3: =IF(A3="","",SUMIF('OT Register'!$B$6:$B$200,A3,'OT Register'!$G$6:$G$200)) | D3: =IF(A3="","",SUMIF('OT Register'!$B$6:$B$200,A3,'OT Register'!$J$6:$J$200)) | E3: 50 | F3: =IF(A3="","",IF(C3>E3,"YES","No"))
C4: =IF(A4="","",SUMIF('OT Register'!$B$6:$B$200,A4,'OT Register'!$G$6:$G$200)) | D4: =IF(A4="","",SUMIF('OT Register'!$B$6:$B$200,A4,'OT Register'!$J$6:$J$200)) | E4: 50 | F4: =IF(A4="","",IF(C4>E4,"YES","No"))
C5: =IF(A5="","",SUMIF('OT Register'!$B$6:$B$200,A5,'OT Register'!$G$6:$G$200)) | D5: =IF(A5="","",SUMIF('OT Register'!$B$6:$B$200,A5,'OT Register'!$J$6:$J$200)) | E5: 50 | F5: =IF(A5="","",IF(C5>E5,"YES","No"))
C6: =IF(A6="","",SUMIF('OT Register'!$B$6:$B$200,A6,'OT Register'!$G$6:$G$200)) | D6: =IF(A6="","",SUMIF('OT Register'!$B$6:$B$200,A6,'OT Register'!$J$6:$J$200)) | E6: 50 | F6: =IF(A6="","",IF(C6>E6,"YES","No"))
C7: =IF(A7="","",SUMIF('OT Register'!$B$6:$B$200,A7,'OT Register'!$G$6:$G$200)) | D7: =IF(A7="","",SUMIF('OT Register'!$B$6:$B$200,A7,'OT Register'!$J$6:$J$200)) | E7: 50 | F7: =IF(A7="","",IF(C7>E7,"YES","No"))
C8: =IF(A8="","",SUMIF('OT Register'!$B$6:$B$200,A8,'OT Register'!$G$6:$G$200)) | D8: =IF(A8="","",SUMIF('OT Register'!$B$6:$B$200,A8,'OT Register'!$J$6:$J$200)) | E8: 50 | F8: =IF(A8="","",IF(C8>E8,"YES","No"))
C9: =IF(A9="","",SUMIF('OT Register'!$B$6:$B$200,A9,'OT Register'!$G$6:$G$200)) | D9: =IF(A9="","",SUMIF('OT Register'!$B$6:$B$200,A9,'OT Register'!$J$6:$J$200)) | E9: 50 | F9: =IF(A9="","",IF(C9>E9,"YES","No"))
C10: =IF(A10="","",SUMIF('OT Register'!$B$6:$B$200,A10,'OT Register'!$G$6:$G$200)) | D10: =IF(A10="","",SUMIF('OT Register'!$B$6:$B$200,A10,'OT Register'!$J$6:$J$200)) | E10: 50 | F10: =IF(A10="","",IF(C10>E10,"YES","No"))
C11: =IF(A11="","",SUMIF('OT Register'!$B$6:$B$200,A11,'OT Register'!$G$6:$G$200)) | D11: =IF(A11="","",SUMIF('OT Register'!$B$6:$B$200,A11,'OT Register'!$J$6:$J$200)) | E11: 50 | F11: =IF(A11="","",IF(C11>E11,"YES","No"))
C12: =IF(A12="","",SUMIF('OT Register'!$B$6:$B$200,A12,'OT Register'!$G$6:$G$200)) | D12: =IF(A12="","",SUMIF('OT Register'!$B$6:$B$200,A12,'OT Register'!$J$6:$J$200)) | E12: 50 | F12: =IF(A12="","",IF(C12>E12,"YES","No"))
C13: =IF(A13="","",SUMIF('OT Register'!$B$6:$B$200,A13,'OT Register'!$G$6:$G$200)) | D13: =IF(A13="","",SUMIF('OT Register'!$B$6:$B$200,A13,'OT Register'!$J$6:$J$200)) | E13: 50 | F13: =IF(A13="","",IF(C13>E13,"YES","No"))
... C31: =IF(A31="","",SUMIF('OT Register'!$B$6:$B$200,A31,'OT Register'!$G$6:$G$200)) | D31: =IF(A31="","",SUMIF('OT Register'!$B$6:$B$200,A31,'OT Register'!$J$6:$J$200)) | E31: 50 | F31: =IF(A31="","",IF(C31>E31,"YES","No"))
