Workbook

Sheet Balances
A1: Leave Tracker 2026
A2: Company
A3: Leave year | B3: Jan-Dec 2026
A4: Template by Attend Mitra (www.attendmitra.com) - free to use and modify.
A6: Emp ID | B6: Name | C6: DOJ | D6: EL Opening | E6: EL Accrued | F6: EL Taken | G6: EL Balance | H6: CL Entitlement | I6: CL Taken | J6: CL Balance | K6: SL Entitlement | L6: SL Taken | M6: SL Balance | N6: Comp-Off Earned | O6: Comp-Off Taken | P6: Comp-Off Balance | Q6: LWP Days
F7: =IF(A7="","",SUMIFS('Leave Log'!$D:$D,'Leave Log'!$A:$A,A7,'Leave Log'!$E:$E,"EL",'Leave Log'!$H:$H,"Approved")) | G7: =IF(A7="","",D7+E7-F7) | I7: =IF(A7="","",SUMIFS('Leave Log'!$D:$D,'Leave Log'!$A:$A,A7,'Leave Log'!$E:$E,"CL",'Leave Log'!$H:$H,"Approved")) | J7: =IF(A7="","",H7-I7) | L7: =IF(A7="","",SUMIFS('Leave Log'!$D:$D,'Leave Log'!$A:$A,A7,'Leave Log'!$E:$E,"SL",'Leave Log'!$H:$H,"Approved")) | M7: =IF(A7="","",K7-L7) | O7: =IF(A7="","",SUMIFS('Leave Log'!$D:$D,'Leave Log'!$A:$A,A7,'Leave Log'!$E:$E,"CO",'Leave Log'!$H:$H,"Approved")) | P7: =IF(A7="","",N7-O7) | Q7: =IF(A7="","",SUMIFS('Leave Log'!$D:$D,'Leave Log'!$A:$A,A7,'Leave Log'!$E:$E,"LWP",'Leave Log'!$H:$H,"Approved"))
F8: =IF(A8="","",SUMIFS('Leave Log'!$D:$D,'Leave Log'!$A:$A,A8,'Leave Log'!$E:$E,"EL",'Leave Log'!$H:$H,"Approved")) | G8: =IF(A8="","",D8+E8-F8) | I8: =IF(A8="","",SUMIFS('Leave Log'!$D:$D,'Leave Log'!$A:$A,A8,'Leave Log'!$E:$E,"CL",'Leave Log'!$H:$H,"Approved")) | J8: =IF(A8="","",H8-I8) | L8: =IF(A8="","",SUMIFS('Leave Log'!$D:$D,'Leave Log'!$A:$A,A8,'Leave Log'!$E:$E,"SL",'Leave Log'!$H:$H,"Approved")) | M8: =IF(A8="","",K8-L8) | O8: =IF(A8="","",SUMIFS('Leave Log'!$D:$D,'Leave Log'!$A:$A,A8,'Leave Log'!$E:$E,"CO",'Leave Log'!$H:$H,"Approved")) | P8: =IF(A8="","",N8-O8) | Q8: =IF(A8="","",SUMIFS('Leave Log'!$D:$D,'Leave Log'!$A:$A,A8,'Leave Log'!$E:$E,"LWP",'Leave Log'!$H:$H,"Approved"))
F9: =IF(A9="","",SUMIFS('Leave Log'!$D:$D,'Leave Log'!$A:$A,A9,'Leave Log'!$E:$E,"EL",'Leave Log'!$H:$H,"Approved")) | G9: =IF(A9="","",D9+E9-F9) | I9: =IF(A9="","",SUMIFS('Leave Log'!$D:$D,'Leave Log'!$A:$A,A9,'Leave Log'!$E:$E,"CL",'Leave Log'!$H:$H,"Approved")) | J9: =IF(A9="","",H9-I9) | L9: =IF(A9="","",SUMIFS('Leave Log'!$D:$D,'Leave Log'!$A:$A,A9,'Leave Log'!$E:$E,"SL",'Leave Log'!$H:$H,"Approved")) | M9: =IF(A9="","",K9-L9) | O9: =IF(A9="","",SUMIFS('Leave Log'!$D:$D,'Leave Log'!$A:$A,A9,'Leave Log'!$E:$E,"CO",'Leave Log'!$H:$H,"Approved")) | P9: =IF(A9="","",N9-O9) | Q9: =IF(A9="","",SUMIFS('Leave Log'!$D:$D,'Leave Log'!$A:$A,A9,'Leave Log'!$E:$E,"LWP",'Leave Log'!$H:$H,"Approved"))
F10: =IF(A10="","",SUMIFS('Leave Log'!$D:$D,'Leave Log'!$A:$A,A10,'Leave Log'!$E:$E,"EL",'Leave Log'!$H:$H,"Approved")) | G10: =IF(A10="","",D10+E10-F10) | I10: =IF(A10="","",SUMIFS('Leave Log'!$D:$D,'Leave Log'!$A:$A,A10,'Leave Log'!$E:$E,"CL",'Leave Log'!$H:$H,"Approved")) | J10: =IF(A10="","",H10-I10) | L10: =IF(A10="","",SUMIFS('Leave Log'!$D:$D,'Leave Log'!$A:$A,A10,'Leave Log'!$E:$E,"SL",'Leave Log'!$H:$H,"Approved")) | M10: =IF(A10="","",K10-L10) | O10: =IF(A10="","",SUMIFS('Leave Log'!$D:$D,'Leave Log'!$A:$A,A10,'Leave Log'!$E:$E,"CO",'Leave Log'!$H:$H,"Approved")) | P10: =IF(A10="","",N10-O10) | Q10: =IF(A10="","",SUMIFS('Leave Log'!$D:$D,'Leave Log'!$A:$A,A10,'Leave Log'!$E:$E,"LWP",'Leave Log'!$H:$H,"Approved"))
F11: =IF(A11="","",SUMIFS('Leave Log'!$D:$D,'Leave Log'!$A:$A,A11,'Leave Log'!$E:$E,"EL",'Leave Log'!$H:$H,"Approved")) | G11: =IF(A11="","",D11+E11-F11) | I11: =IF(A11="","",SUMIFS('Leave Log'!$D:$D,'Leave Log'!$A:$A,A11,'Leave Log'!$E:$E,"CL",'Leave Log'!$H:$H,"Approved")) | J11: =IF(A11="","",H11-I11) | L11: =IF(A11="","",SUMIFS('Leave Log'!$D:$D,'Leave Log'!$A:$A,A11,'Leave Log'!$E:$E,"SL",'Leave Log'!$H:$H,"Approved")) | M11: =IF(A11="","",K11-L11) | O11: =IF(A11="","",SUMIFS('Leave Log'!$D:$D,'Leave Log'!$A:$A,A11,'Leave Log'!$E:$E,"CO",'Leave Log'!$H:$H,"Approved")) | P11: =IF(A11="","",N11-O11) | Q11: =IF(A11="","",SUMIFS('Leave Log'!$D:$D,'Leave Log'!$A:$A,A11,'Leave Log'!$E:$E,"LWP",'Leave Log'!$H:$H,"Approved"))
F12: =IF(A12="","",SUMIFS('Leave Log'!$D:$D,'Leave Log'!$A:$A,A12,'Leave Log'!$E:$E,"EL",'Leave Log'!$H:$H,"Approved")) | G12: =IF(A12="","",D12+E12-F12) | I12: =IF(A12="","",SUMIFS('Leave Log'!$D:$D,'Leave Log'!$A:$A,A12,'Leave Log'!$E:$E,"CL",'Leave Log'!$H:$H,"Approved")) | J12: =IF(A12="","",H12-I12) | L12: =IF(A12="","",SUMIFS('Leave Log'!$D:$D,'Leave Log'!$A:$A,A12,'Leave Log'!$E:$E,"SL",'Leave Log'!$H:$H,"Approved")) | M12: =IF(A12="","",K12-L12) | O12: =IF(A12="","",SUMIFS('Leave Log'!$D:$D,'Leave Log'!$A:$A,A12,'Leave Log'!$E:$E,"CO",'Leave Log'!$H:$H,"Approved")) | P12: =IF(A12="","",N12-O12) | Q12: =IF(A12="","",SUMIFS('Leave Log'!$D:$D,'Leave Log'!$A:$A,A12,'Leave Log'!$E:$E,"LWP",'Leave Log'!$H:$H,"Approved"))
F13: =IF(A13="","",SUMIFS('Leave Log'!$D:$D,'Leave Log'!$A:$A,A13,'Leave Log'!$E:$E,"EL",'Leave Log'!$H:$H,"Approved")) | G13: =IF(A13="","",D13+E13-F13) | I13: =IF(A13="","",SUMIFS('Leave Log'!$D:$D,'Leave Log'!$A:$A,A13,'Leave Log'!$E:$E,"CL",'Leave Log'!$H:$H,"Approved")) | J13: =IF(A13="","",H13-I13) | L13: =IF(A13="","",SUMIFS('Leave Log'!$D:$D,'Leave Log'!$A:$A,A13,'Leave Log'!$E:$E,"SL",'Leave Log'!$H:$H,"Approved")) | M13: =IF(A13="","",K13-L13) | O13: =IF(A13="","",SUMIFS('Leave Log'!$D:$D,'Leave Log'!$A:$A,A13,'Leave Log'!$E:$E,"CO",'Leave Log'!$H:$H,"Approved")) | P13: =IF(A13="","",N13-O13) | Q13: =IF(A13="","",SUMIFS('Leave Log'!$D:$D,'Leave Log'!$A:$A,A13,'Leave Log'!$E:$E,"LWP",'Leave Log'!$H:$H,"Approved"))
F14: =IF(A14="","",SUMIFS('Leave Log'!$D:$D,'Leave Log'!$A:$A,A14,'Leave Log'!$E:$E,"EL",'Leave Log'!$H:$H,"Approved")) | G14: =IF(A14="","",D14+E14-F14) | I14: =IF(A14="","",SUMIFS('Leave Log'!$D:$D,'Leave Log'!$A:$A,A14,'Leave Log'!$E:$E,"CL",'Leave Log'!$H:$H,"Approved")) | J14: =IF(A14="","",H14-I14) | L14: =IF(A14="","",SUMIFS('Leave Log'!$D:$D,'Leave Log'!$A:$A,A14,'Leave Log'!$E:$E,"SL",'Leave Log'!$H:$H,"Approved")) | M14: =IF(A14="","",K14-L14) | O14: =IF(A14="","",SUMIFS('Leave Log'!$D:$D,'Leave Log'!$A:$A,A14,'Leave Log'!$E:$E,"CO",'Leave Log'!$H:$H,"Approved")) | P14: =IF(A14="","",N14-O14) | Q14: =IF(A14="","",SUMIFS('Leave Log'!$D:$D,'Leave Log'!$A:$A,A14,'Leave Log'!$E:$E,"LWP",'Leave Log'!$H:$H,"Approved"))
F15: =IF(A15="","",SUMIFS('Leave Log'!$D:$D,'Leave Log'!$A:$A,A15,'Leave Log'!$E:$E,"EL",'Leave Log'!$H:$H,"Approved")) | G15: =IF(A15="","",D15+E15-F15) | I15: =IF(A15="","",SUMIFS('Leave Log'!$D:$D,'Leave Log'!$A:$A,A15,'Leave Log'!$E:$E,"CL",'Leave Log'!$H:$H,"Approved")) | J15: =IF(A15="","",H15-I15) | L15: =IF(A15="","",SUMIFS('Leave Log'!$D:$D,'Leave Log'!$A:$A,A15,'Leave Log'!$E:$E,"SL",'Leave Log'!$H:$H,"Approved")) | M15: =IF(A15="","",K15-L15) | O15: =IF(A15="","",SUMIFS('Leave Log'!$D:$D,'Leave Log'!$A:$A,A15,'Leave Log'!$E:$E,"CO",'Leave Log'!$H:$H,"Approved")) | P15: =IF(A15="","",N15-O15) | Q15: =IF(A15="","",SUMIFS('Leave Log'!$D:$D,'Leave Log'!$A:$A,A15,'Leave Log'!$E:$E,"LWP",'Leave Log'!$H:$H,"Approved"))
F16: =IF(A16="","",SUMIFS('Leave Log'!$D:$D,'Leave Log'!$A:$A,A16,'Leave Log'!$E:$E,"EL",'Leave Log'!$H:$H,"Approved")) | G16: =IF(A16="","",D16+E16-F16) | I16: =IF(A16="","",SUMIFS('Leave Log'!$D:$D,'Leave Log'!$A:$A,A16,'Leave Log'!$E:$E,"CL",'Leave Log'!$H:$H,"Approved")) | J16: =IF(A16="","",H16-I16) | L16: =IF(A16="","",SUMIFS('Leave Log'!$D:$D,'Leave Log'!$A:$A,A16,'Leave Log'!$E:$E,"SL",'Leave Log'!$H:$H,"Approved")) | M16: =IF(A16="","",K16-L16) | O16: =IF(A16="","",SUMIFS('Leave Log'!$D:$D,'Leave Log'!$A:$A,A16,'Leave Log'!$E:$E,"CO",'Leave Log'!$H:$H,"Approved")) | P16: =IF(A16="","",N16-O16) | Q16: =IF(A16="","",SUMIFS('Leave Log'!$D:$D,'Leave Log'!$A:$A,A16,'Leave Log'!$E:$E,"LWP",'Leave Log'!$H:$H,"Approved"))
F17: =IF(A17="","",SUMIFS('Leave Log'!$D:$D,'Leave Log'!$A:$A,A17,'Leave Log'!$E:$E,"EL",'Leave Log'!$H:$H,"Approved")) | G17: =IF(A17="","",D17+E17-F17) | I17: =IF(A17="","",SUMIFS('Leave Log'!$D:$D,'Leave Log'!$A:$A,A17,'Leave Log'!$E:$E,"CL",'Leave Log'!$H:$H,"Approved")) | J17: =IF(A17="","",H17-I17) | L17: =IF(A17="","",SUMIFS('Leave Log'!$D:$D,'Leave Log'!$A:$A,A17,'Leave Log'!$E:$E,"SL",'Leave Log'!$H:$H,"Approved")) | M17: =IF(A17="","",K17-L17) | O17: =IF(A17="","",SUMIFS('Leave Log'!$D:$D,'Leave Log'!$A:$A,A17,'Leave Log'!$E:$E,"CO",'Leave Log'!$H:$H,"Approved")) | P17: =IF(A17="","",N17-O17) | Q17: =IF(A17="","",SUMIFS('Leave Log'!$D:$D,'Leave Log'!$A:$A,A17,'Leave Log'!$E:$E,"LWP",'Leave Log'!$H:$H,"Approved"))
F18: =IF(A18="","",SUMIFS('Leave Log'!$D:$D,'Leave Log'!$A:$A,A18,'Leave Log'!$E:$E,"EL",'Leave Log'!$H:$H,"Approved")) | G18: =IF(A18="","",D18+E18-F18) | I18: =IF(A18="","",SUMIFS('Leave Log'!$D:$D,'Leave Log'!$A:$A,A18,'Leave Log'!$E:$E,"CL",'Leave Log'!$H:$H,"Approved")) | J18: =IF(A18="","",H18-I18) | L18: =IF(A18="","",SUMIFS('Leave Log'!$D:$D,'Leave Log'!$A:$A,A18,'Leave Log'!$E:$E,"SL",'Leave Log'!$H:$H,"Approved")) | M18: =IF(A18="","",K18-L18) | O18: =IF(A18="","",SUMIFS('Leave Log'!$D:$D,'Leave Log'!$A:$A,A18,'Leave Log'!$E:$E,"CO",'Leave Log'!$H:$H,"Approved")) | P18: =IF(A18="","",N18-O18) | Q18: =IF(A18="","",SUMIFS('Leave Log'!$D:$D,'Leave Log'!$A:$A,A18,'Leave Log'!$E:$E,"LWP",'Leave Log'!$H:$H,"Approved"))
... F46: =IF(A46="","",SUMIFS('Leave Log'!$D:$D,'Leave Log'!$A:$A,A46,'Leave Log'!$E:$E,"EL",'Leave Log'!$H:$H,"Approved")) | G46: =IF(A46="","",D46+E46-F46) | I46: =IF(A46="","",SUMIFS('Leave Log'!$D:$D,'Leave Log'!$A:$A,A46,'Leave Log'!$E:$E,"CL",'Leave Log'!$H:$H,"Approved")) | J46: =IF(A46="","",H46-I46) | L46: =IF(A46="","",SUMIFS('Leave Log'!$D:$D,'Leave Log'!$A:$A,A46,'Leave Log'!$E:$E,"SL",'Leave Log'!$H:$H,"Approved")) | M46: =IF(A46="","",K46-L46) | O46: =IF(A46="","",SUMIFS('Leave Log'!$D:$D,'Leave Log'!$A:$A,A46,'Leave Log'!$E:$E,"CO",'Leave Log'!$H:$H,"Approved")) | P46: =IF(A46="","",N46-O46) | Q46: =IF(A46="","",SUMIFS('Leave Log'!$D:$D,'Leave Log'!$A:$A,A46,'Leave Log'!$E:$E,"LWP",'Leave Log'!$H:$H,"Approved"))

Sheet Leave Log
A1: Emp ID | B1: Date From | C1: Date To | D1: Days | E1: Type (EL/CL/SL/CO/LWP) | F1: Reason | G1: Approved By | H1: Status
D2: =IF(OR(B2="",C2=""),"",C2-B2+1)
D3: =IF(OR(B3="",C3=""),"",C3-B3+1)
D4: =IF(OR(B4="",C4=""),"",C4-B4+1)
D5: =IF(OR(B5="",C5=""),"",C5-B5+1)
D6: =IF(OR(B6="",C6=""),"",C6-B6+1)
D7: =IF(OR(B7="",C7=""),"",C7-B7+1)
D8: =IF(OR(B8="",C8=""),"",C8-B8+1)
D9: =IF(OR(B9="",C9=""),"",C9-B9+1)
D10: =IF(OR(B10="",C10=""),"",C10-B10+1)
D11: =IF(OR(B11="",C11=""),"",C11-B11+1)
D12: =IF(OR(B12="",C12=""),"",C12-B12+1)
D13: =IF(OR(B13="",C13=""),"",C13-B13+1)
... D201: =IF(OR(B201="",C201=""),"",C201-B201+1)

Sheet Holidays 2026
A1: Date | B1: Holiday | C1: Type (National/State/Optional)
B2: Enter your state holiday list here

Sheet Calendar
A1: Month | B1: 1 | C1: 2 | D1: 3 | E1: 4 | F1: 5 | G1: 6 | H1: 7 | I1: 8 | J1: 9 | K1: 10 | L1: 11 | M1: 12 | N1: 13 | O1: 14 | P1: 15 | Q1: 16 | R1: 17 | S1: 18 | T1: 19 | U1: 20 | V1: 21 | W1: 22 | X1: 23 | Y1: 24 | Z1: 25 | AA1: 26 | AB1: 27 | AC1: 28 | AD1: 29 | AE1: 30 | AF1: 31
A2: Jan
A3: Feb
A4: Mar
A5: Apr
A6: May
A7: Jun
A8: Jul
A9: Aug
A10: Sep
A11: Oct
A12: Nov
A13: Dec
A15: Mark H for holiday, W for weekly off, or an employee's leave code to visualise the year.
