Workbook

Sheet Daily Wage Attendance
A1: Labour Attendance Sheet - Daily Wages
A2: Site
A3: Contractor
A4: Month / Year
A5: Supervisor
A6: Template by Attend Mitra (www.attendmitra.com) - free to use and modify.
A8: Sr | B8: Labour Name | C8: Category (Unskilled/Semi/Skilled) | D8: Daily Wage Rate | E8: 1 | F8: 2 | G8: 3 | H8: 4 | I8: 5 | J8: 6 | K8: 7 | L8: 8 | M8: 9 | N8: 10 | O8: 11 | P8: 12 | Q8: 13 | R8: 14 | S8: 15 | T8: 16 | U8: 17 | V8: 18 | W8: 19 | X8: 20 | Y8: 21 | Z8: 22 | AA8: 23 | AB8: 24 | AC8: 25 | AD8: 26 | AE8: 27 | AF8: 28 | AG8: 29 | AH8: 30 | AI8: 31 | AJ8: Total Days | AK8: OT Hours | AL8: OT Rate (per hr) | AM8: Gross Wages | AN8: Advance | AO8: Net Payable | AP8: Signature / Thumb
A9: 1 | AJ9: =COUNTIF(E9:AI9,"P")+0.5*COUNTIF(E9:AI9,"H") | AL9: =IF(D9="","",ROUND(D9/8*2,2)) | AM9: =IF(D9="","",ROUND(AJ9*D9+AK9*AL9,0)) | AO9: =IF(AM9="","",AM9-AN9)
A10: 2 | AJ10: =COUNTIF(E10:AI10,"P")+0.5*COUNTIF(E10:AI10,"H") | AL10: =IF(D10="","",ROUND(D10/8*2,2)) | AM10: =IF(D10="","",ROUND(AJ10*D10+AK10*AL10,0)) | AO10: =IF(AM10="","",AM10-AN10)
A11: 3 | AJ11: =COUNTIF(E11:AI11,"P")+0.5*COUNTIF(E11:AI11,"H") | AL11: =IF(D11="","",ROUND(D11/8*2,2)) | AM11: =IF(D11="","",ROUND(AJ11*D11+AK11*AL11,0)) | AO11: =IF(AM11="","",AM11-AN11)
A12: 4 | AJ12: =COUNTIF(E12:AI12,"P")+0.5*COUNTIF(E12:AI12,"H") | AL12: =IF(D12="","",ROUND(D12/8*2,2)) | AM12: =IF(D12="","",ROUND(AJ12*D12+AK12*AL12,0)) | AO12: =IF(AM12="","",AM12-AN12)
A13: 5 | AJ13: =COUNTIF(E13:AI13,"P")+0.5*COUNTIF(E13:AI13,"H") | AL13: =IF(D13="","",ROUND(D13/8*2,2)) | AM13: =IF(D13="","",ROUND(AJ13*D13+AK13*AL13,0)) | AO13: =IF(AM13="","",AM13-AN13)
A14: 6 | AJ14: =COUNTIF(E14:AI14,"P")+0.5*COUNTIF(E14:AI14,"H") | AL14: =IF(D14="","",ROUND(D14/8*2,2)) | AM14: =IF(D14="","",ROUND(AJ14*D14+AK14*AL14,0)) | AO14: =IF(AM14="","",AM14-AN14)
A15: 7 | AJ15: =COUNTIF(E15:AI15,"P")+0.5*COUNTIF(E15:AI15,"H") | AL15: =IF(D15="","",ROUND(D15/8*2,2)) | AM15: =IF(D15="","",ROUND(AJ15*D15+AK15*AL15,0)) | AO15: =IF(AM15="","",AM15-AN15)
A16: 8 | AJ16: =COUNTIF(E16:AI16,"P")+0.5*COUNTIF(E16:AI16,"H") | AL16: =IF(D16="","",ROUND(D16/8*2,2)) | AM16: =IF(D16="","",ROUND(AJ16*D16+AK16*AL16,0)) | AO16: =IF(AM16="","",AM16-AN16)
A17: 9 | AJ17: =COUNTIF(E17:AI17,"P")+0.5*COUNTIF(E17:AI17,"H") | AL17: =IF(D17="","",ROUND(D17/8*2,2)) | AM17: =IF(D17="","",ROUND(AJ17*D17+AK17*AL17,0)) | AO17: =IF(AM17="","",AM17-AN17)
A18: 10 | AJ18: =COUNTIF(E18:AI18,"P")+0.5*COUNTIF(E18:AI18,"H") | AL18: =IF(D18="","",ROUND(D18/8*2,2)) | AM18: =IF(D18="","",ROUND(AJ18*D18+AK18*AL18,0)) | AO18: =IF(AM18="","",AM18-AN18)
A19: 11 | AJ19: =COUNTIF(E19:AI19,"P")+0.5*COUNTIF(E19:AI19,"H") | AL19: =IF(D19="","",ROUND(D19/8*2,2)) | AM19: =IF(D19="","",ROUND(AJ19*D19+AK19*AL19,0)) | AO19: =IF(AM19="","",AM19-AN19)
A20: 12 | AJ20: =COUNTIF(E20:AI20,"P")+0.5*COUNTIF(E20:AI20,"H") | AL20: =IF(D20="","",ROUND(D20/8*2,2)) | AM20: =IF(D20="","",ROUND(AJ20*D20+AK20*AL20,0)) | AO20: =IF(AM20="","",AM20-AN20)
... A48: 40 | AJ48: =COUNTIF(E48:AI48,"P")+0.5*COUNTIF(E48:AI48,"H") | AL48: =IF(D48="","",ROUND(D48/8*2,2)) | AM48: =IF(D48="","",ROUND(AJ48*D48+AK48*AL48,0)) | AO48: =IF(AM48="","",AM48-AN48)

Sheet Site Summary
A1: Category | B1: Workers | C1: Total Days | D1: OT Hours | E1: Gross Wages | F1: Net Payable
A2: Unskilled | B2: =COUNTIF('Daily Wage Attendance'!$C$7:$C$200,A2) | C2: =SUMIF('Daily Wage Attendance'!$C$7:$C$200,A2,'Daily Wage Attendance'!$AJ$7:$AJ$200) | D2: =SUMIF('Daily Wage Attendance'!$C$7:$C$200,A2,'Daily Wage Attendance'!$AK$7:$AK$200) | E2: =SUMIF('Daily Wage Attendance'!$C$7:$C$200,A2,'Daily Wage Attendance'!$AM$7:$AM$200) | F2: =SUMIF('Daily Wage Attendance'!$C$7:$C$200,A2,'Daily Wage Attendance'!$AO$7:$AO$200)
A3: Semi-skilled | B3: =COUNTIF('Daily Wage Attendance'!$C$7:$C$200,A3) | C3: =SUMIF('Daily Wage Attendance'!$C$7:$C$200,A3,'Daily Wage Attendance'!$AJ$7:$AJ$200) | D3: =SUMIF('Daily Wage Attendance'!$C$7:$C$200,A3,'Daily Wage Attendance'!$AK$7:$AK$200) | E3: =SUMIF('Daily Wage Attendance'!$C$7:$C$200,A3,'Daily Wage Attendance'!$AM$7:$AM$200) | F3: =SUMIF('Daily Wage Attendance'!$C$7:$C$200,A3,'Daily Wage Attendance'!$AO$7:$AO$200)
A4: Skilled | B4: =COUNTIF('Daily Wage Attendance'!$C$7:$C$200,A4) | C4: =SUMIF('Daily Wage Attendance'!$C$7:$C$200,A4,'Daily Wage Attendance'!$AJ$7:$AJ$200) | D4: =SUMIF('Daily Wage Attendance'!$C$7:$C$200,A4,'Daily Wage Attendance'!$AK$7:$AK$200) | E4: =SUMIF('Daily Wage Attendance'!$C$7:$C$200,A4,'Daily Wage Attendance'!$AM$7:$AM$200) | F4: =SUMIF('Daily Wage Attendance'!$C$7:$C$200,A4,'Daily Wage Attendance'!$AO$7:$AO$200)
A5: Highly skilled | B5: =COUNTIF('Daily Wage Attendance'!$C$7:$C$200,A5) | C5: =SUMIF('Daily Wage Attendance'!$C$7:$C$200,A5,'Daily Wage Attendance'!$AJ$7:$AJ$200) | D5: =SUMIF('Daily Wage Attendance'!$C$7:$C$200,A5,'Daily Wage Attendance'!$AK$7:$AK$200) | E5: =SUMIF('Daily Wage Attendance'!$C$7:$C$200,A5,'Daily Wage Attendance'!$AM$7:$AM$200) | F5: =SUMIF('Daily Wage Attendance'!$C$7:$C$200,A5,'Daily Wage Attendance'!$AO$7:$AO$200)
A6: Total | B6: =SUM(B2:B5) | C6: =SUM(C2:C5) | D6: =SUM(D2:D5) | E6: =SUM(E2:E5) | F6: =SUM(F2:F5)

Sheet Notes
A1: Codes: P = present (1 day), H = half day (0.5), A = absent. Daily wage rate should be the current state minimum wage for the category plus any agreed allowance. OT is computed at twice the hourly rate (daily rate / 8).
