Workbook

Sheet Daily Log
A1: Employee Attendance Sheet with In and Out Time
A2: Company
A3: Month / Year
A4: Template by Attend Mitra (www.attendmitra.com) - free to use and modify.
A6: Date | B6: Emp ID | C6: Name | D6: Shift Start | E6: Shift End | F6: In Time | G6: Out Time | H6: Break (mins) | I6: Worked Hours | J6: Late By (mins) | K6: Overtime Hours | L6: Remarks
D7: 09:00 | I7: =IF(OR(F7="",G7=""),"",ROUND(MOD(G7-F7,1)*24-H7/60,2)) | J7: =IF(OR(F7="",D7=""),"",MAX(0,ROUND((F7-D7)*1440,0))) | K7: =IF(OR(I7="",D7="",E7=""),"",MAX(0,ROUND(I7-(MOD(E7-D7,1)*24-H7/60),2)))
I8: =IF(OR(F8="",G8=""),"",ROUND(MOD(G8-F8,1)*24-H8/60,2)) | J8: =IF(OR(F8="",D8=""),"",MAX(0,ROUND((F8-D8)*1440,0))) | K8: =IF(OR(I8="",D8="",E8=""),"",MAX(0,ROUND(I8-(MOD(E8-D8,1)*24-H8/60),2)))
I9: =IF(OR(F9="",G9=""),"",ROUND(MOD(G9-F9,1)*24-H9/60,2)) | J9: =IF(OR(F9="",D9=""),"",MAX(0,ROUND((F9-D9)*1440,0))) | K9: =IF(OR(I9="",D9="",E9=""),"",MAX(0,ROUND(I9-(MOD(E9-D9,1)*24-H9/60),2)))
I10: =IF(OR(F10="",G10=""),"",ROUND(MOD(G10-F10,1)*24-H10/60,2)) | J10: =IF(OR(F10="",D10=""),"",MAX(0,ROUND((F10-D10)*1440,0))) | K10: =IF(OR(I10="",D10="",E10=""),"",MAX(0,ROUND(I10-(MOD(E10-D10,1)*24-H10/60),2)))
I11: =IF(OR(F11="",G11=""),"",ROUND(MOD(G11-F11,1)*24-H11/60,2)) | J11: =IF(OR(F11="",D11=""),"",MAX(0,ROUND((F11-D11)*1440,0))) | K11: =IF(OR(I11="",D11="",E11=""),"",MAX(0,ROUND(I11-(MOD(E11-D11,1)*24-H11/60),2)))
I12: =IF(OR(F12="",G12=""),"",ROUND(MOD(G12-F12,1)*24-H12/60,2)) | J12: =IF(OR(F12="",D12=""),"",MAX(0,ROUND((F12-D12)*1440,0))) | K12: =IF(OR(I12="",D12="",E12=""),"",MAX(0,ROUND(I12-(MOD(E12-D12,1)*24-H12/60),2)))
I13: =IF(OR(F13="",G13=""),"",ROUND(MOD(G13-F13,1)*24-H13/60,2)) | J13: =IF(OR(F13="",D13=""),"",MAX(0,ROUND((F13-D13)*1440,0))) | K13: =IF(OR(I13="",D13="",E13=""),"",MAX(0,ROUND(I13-(MOD(E13-D13,1)*24-H13/60),2)))
I14: =IF(OR(F14="",G14=""),"",ROUND(MOD(G14-F14,1)*24-H14/60,2)) | J14: =IF(OR(F14="",D14=""),"",MAX(0,ROUND((F14-D14)*1440,0))) | K14: =IF(OR(I14="",D14="",E14=""),"",MAX(0,ROUND(I14-(MOD(E14-D14,1)*24-H14/60),2)))
I15: =IF(OR(F15="",G15=""),"",ROUND(MOD(G15-F15,1)*24-H15/60,2)) | J15: =IF(OR(F15="",D15=""),"",MAX(0,ROUND((F15-D15)*1440,0))) | K15: =IF(OR(I15="",D15="",E15=""),"",MAX(0,ROUND(I15-(MOD(E15-D15,1)*24-H15/60),2)))
I16: =IF(OR(F16="",G16=""),"",ROUND(MOD(G16-F16,1)*24-H16/60,2)) | J16: =IF(OR(F16="",D16=""),"",MAX(0,ROUND((F16-D16)*1440,0))) | K16: =IF(OR(I16="",D16="",E16=""),"",MAX(0,ROUND(I16-(MOD(E16-D16,1)*24-H16/60),2)))
I17: =IF(OR(F17="",G17=""),"",ROUND(MOD(G17-F17,1)*24-H17/60,2)) | J17: =IF(OR(F17="",D17=""),"",MAX(0,ROUND((F17-D17)*1440,0))) | K17: =IF(OR(I17="",D17="",E17=""),"",MAX(0,ROUND(I17-(MOD(E17-D17,1)*24-H17/60),2)))
I18: =IF(OR(F18="",G18=""),"",ROUND(MOD(G18-F18,1)*24-H18/60,2)) | J18: =IF(OR(F18="",D18=""),"",MAX(0,ROUND((F18-D18)*1440,0))) | K18: =IF(OR(I18="",D18="",E18=""),"",MAX(0,ROUND(I18-(MOD(E18-D18,1)*24-H18/60),2)))
I19: =IF(OR(F19="",G19=""),"",ROUND(MOD(G19-F19,1)*24-H19/60,2)) | J19: =IF(OR(F19="",D19=""),"",MAX(0,ROUND((F19-D19)*1440,0))) | K19: =IF(OR(I19="",D19="",E19=""),"",MAX(0,ROUND(I19-(MOD(E19-D19,1)*24-H19/60),2)))
... I66: =IF(OR(F66="",G66=""),"",ROUND(MOD(G66-F66,1)*24-H66/60,2)) | J66: =IF(OR(F66="",D66=""),"",MAX(0,ROUND((F66-D66)*1440,0))) | K66: =IF(OR(I66="",D66="",E66=""),"",MAX(0,ROUND(I66-(MOD(E66-D66,1)*24-H66/60),2)))

Sheet Summary
A1: Emp ID | B1: Name | C1: Days Logged | D1: Total Worked Hours | E1: Total Overtime Hours | F1: Late Instances
C2: =IF(A2="","",COUNTIF('Daily Log'!$B$5:$B$200,A2)) | D2: =IF(A2="","",SUMIF('Daily Log'!$B$5:$B$200,A2,'Daily Log'!$I$5:$I$200)) | E2: =IF(A2="","",SUMIF('Daily Log'!$B$5:$B$200,A2,'Daily Log'!$K$5:$K$200)) | F2: =IF(A2="","",COUNTIFS('Daily Log'!$B$5:$B$200,A2,'Daily Log'!$J$5:$J$200,">0"))
C3: =IF(A3="","",COUNTIF('Daily Log'!$B$5:$B$200,A3)) | D3: =IF(A3="","",SUMIF('Daily Log'!$B$5:$B$200,A3,'Daily Log'!$I$5:$I$200)) | E3: =IF(A3="","",SUMIF('Daily Log'!$B$5:$B$200,A3,'Daily Log'!$K$5:$K$200)) | F3: =IF(A3="","",COUNTIFS('Daily Log'!$B$5:$B$200,A3,'Daily Log'!$J$5:$J$200,">0"))
C4: =IF(A4="","",COUNTIF('Daily Log'!$B$5:$B$200,A4)) | D4: =IF(A4="","",SUMIF('Daily Log'!$B$5:$B$200,A4,'Daily Log'!$I$5:$I$200)) | E4: =IF(A4="","",SUMIF('Daily Log'!$B$5:$B$200,A4,'Daily Log'!$K$5:$K$200)) | F4: =IF(A4="","",COUNTIFS('Daily Log'!$B$5:$B$200,A4,'Daily Log'!$J$5:$J$200,">0"))
C5: =IF(A5="","",COUNTIF('Daily Log'!$B$5:$B$200,A5)) | D5: =IF(A5="","",SUMIF('Daily Log'!$B$5:$B$200,A5,'Daily Log'!$I$5:$I$200)) | E5: =IF(A5="","",SUMIF('Daily Log'!$B$5:$B$200,A5,'Daily Log'!$K$5:$K$200)) | F5: =IF(A5="","",COUNTIFS('Daily Log'!$B$5:$B$200,A5,'Daily Log'!$J$5:$J$200,">0"))
C6: =IF(A6="","",COUNTIF('Daily Log'!$B$5:$B$200,A6)) | D6: =IF(A6="","",SUMIF('Daily Log'!$B$5:$B$200,A6,'Daily Log'!$I$5:$I$200)) | E6: =IF(A6="","",SUMIF('Daily Log'!$B$5:$B$200,A6,'Daily Log'!$K$5:$K$200)) | F6: =IF(A6="","",COUNTIFS('Daily Log'!$B$5:$B$200,A6,'Daily Log'!$J$5:$J$200,">0"))
C7: =IF(A7="","",COUNTIF('Daily Log'!$B$5:$B$200,A7)) | D7: =IF(A7="","",SUMIF('Daily Log'!$B$5:$B$200,A7,'Daily Log'!$I$5:$I$200)) | E7: =IF(A7="","",SUMIF('Daily Log'!$B$5:$B$200,A7,'Daily Log'!$K$5:$K$200)) | F7: =IF(A7="","",COUNTIFS('Daily Log'!$B$5:$B$200,A7,'Daily Log'!$J$5:$J$200,">0"))
C8: =IF(A8="","",COUNTIF('Daily Log'!$B$5:$B$200,A8)) | D8: =IF(A8="","",SUMIF('Daily Log'!$B$5:$B$200,A8,'Daily Log'!$I$5:$I$200)) | E8: =IF(A8="","",SUMIF('Daily Log'!$B$5:$B$200,A8,'Daily Log'!$K$5:$K$200)) | F8: =IF(A8="","",COUNTIFS('Daily Log'!$B$5:$B$200,A8,'Daily Log'!$J$5:$J$200,">0"))
C9: =IF(A9="","",COUNTIF('Daily Log'!$B$5:$B$200,A9)) | D9: =IF(A9="","",SUMIF('Daily Log'!$B$5:$B$200,A9,'Daily Log'!$I$5:$I$200)) | E9: =IF(A9="","",SUMIF('Daily Log'!$B$5:$B$200,A9,'Daily Log'!$K$5:$K$200)) | F9: =IF(A9="","",COUNTIFS('Daily Log'!$B$5:$B$200,A9,'Daily Log'!$J$5:$J$200,">0"))
C10: =IF(A10="","",COUNTIF('Daily Log'!$B$5:$B$200,A10)) | D10: =IF(A10="","",SUMIF('Daily Log'!$B$5:$B$200,A10,'Daily Log'!$I$5:$I$200)) | E10: =IF(A10="","",SUMIF('Daily Log'!$B$5:$B$200,A10,'Daily Log'!$K$5:$K$200)) | F10: =IF(A10="","",COUNTIFS('Daily Log'!$B$5:$B$200,A10,'Daily Log'!$J$5:$J$200,">0"))
C11: =IF(A11="","",COUNTIF('Daily Log'!$B$5:$B$200,A11)) | D11: =IF(A11="","",SUMIF('Daily Log'!$B$5:$B$200,A11,'Daily Log'!$I$5:$I$200)) | E11: =IF(A11="","",SUMIF('Daily Log'!$B$5:$B$200,A11,'Daily Log'!$K$5:$K$200)) | F11: =IF(A11="","",COUNTIFS('Daily Log'!$B$5:$B$200,A11,'Daily Log'!$J$5:$J$200,">0"))
C12: =IF(A12="","",COUNTIF('Daily Log'!$B$5:$B$200,A12)) | D12: =IF(A12="","",SUMIF('Daily Log'!$B$5:$B$200,A12,'Daily Log'!$I$5:$I$200)) | E12: =IF(A12="","",SUMIF('Daily Log'!$B$5:$B$200,A12,'Daily Log'!$K$5:$K$200)) | F12: =IF(A12="","",COUNTIFS('Daily Log'!$B$5:$B$200,A12,'Daily Log'!$J$5:$J$200,">0"))
C13: =IF(A13="","",COUNTIF('Daily Log'!$B$5:$B$200,A13)) | D13: =IF(A13="","",SUMIF('Daily Log'!$B$5:$B$200,A13,'Daily Log'!$I$5:$I$200)) | E13: =IF(A13="","",SUMIF('Daily Log'!$B$5:$B$200,A13,'Daily Log'!$K$5:$K$200)) | F13: =IF(A13="","",COUNTIFS('Daily Log'!$B$5:$B$200,A13,'Daily Log'!$J$5:$J$200,">0"))
... C21: =IF(A21="","",COUNTIF('Daily Log'!$B$5:$B$200,A21)) | D21: =IF(A21="","",SUMIF('Daily Log'!$B$5:$B$200,A21,'Daily Log'!$I$5:$I$200)) | E21: =IF(A21="","",SUMIF('Daily Log'!$B$5:$B$200,A21,'Daily Log'!$K$5:$K$200)) | F21: =IF(A21="","",COUNTIFS('Daily Log'!$B$5:$B$200,A21,'Daily Log'!$J$5:$J$200,">0"))
