Workbook

Sheet Attendance & Salary
A1: Attendance Sheet with Salary Calculation
A2: Company
A3: Month / Year
A4: Template by Attend Mitra (www.attendmitra.com) - free to use and modify.
A6: Emp ID | B6: Name | C6: Monthly Gross | D6: 1 | E6: 2 | F6: 3 | G6: 4 | H6: 5 | I6: 6 | J6: 7 | K6: 8 | L6: 9 | M6: 10 | N6: 11 | O6: 12 | P6: 13 | Q6: 14 | R6: 15 | S6: 16 | T6: 17 | U6: 18 | V6: 19 | W6: 20 | X6: 21 | Y6: 22 | Z6: 23 | AA6: 24 | AB6: 25 | AC6: 26 | AD6: 27 | AE6: 28 | AF6: 29 | AG6: 30 | AH6: 31 | AI6: Present | AJ6: Half Day | AK6: Paid Leave | AL6: WO | AM6: Holiday | AN6: Payable Days | AO6: Per Day Rate | AP6: Earned Salary | AQ6: LOP Amount | AR6: OT Hours | AS6: OT Amount | AT6: Net Before Deductions
AI7: =COUNTIF(D7:AH7,"P") | AJ7: =COUNTIF(D7:AH7,"HD") | AK7: =COUNTIF(D7:AH7,"L") | AL7: =COUNTIF(D7:AH7,"WO") | AM7: =COUNTIF(D7:AH7,"H") | AN7: =AI7+0.5*AJ7+AK7+AL7+AM7 | AO7: =IF(C7="","",ROUND(C7/Settings!$B$3,2)) | AP7: =IF(C7="","",ROUND(AO7*MIN(AN7,Settings!$B$2),0)) | AQ7: =IF(C7="","",C7-AP7) | AS7: =IF(OR(C7="",AR7=""),0,ROUND(AR7*(AO7/Settings!$B$5)*Settings!$B$4,0)) | AT7: =IF(C7="","",AP7+AS7)
AI8: =COUNTIF(D8:AH8,"P") | AJ8: =COUNTIF(D8:AH8,"HD") | AK8: =COUNTIF(D8:AH8,"L") | AL8: =COUNTIF(D8:AH8,"WO") | AM8: =COUNTIF(D8:AH8,"H") | AN8: =AI8+0.5*AJ8+AK8+AL8+AM8 | AO8: =IF(C8="","",ROUND(C8/Settings!$B$3,2)) | AP8: =IF(C8="","",ROUND(AO8*MIN(AN8,Settings!$B$2),0)) | AQ8: =IF(C8="","",C8-AP8) | AS8: =IF(OR(C8="",AR8=""),0,ROUND(AR8*(AO8/Settings!$B$5)*Settings!$B$4,0)) | AT8: =IF(C8="","",AP8+AS8)
AI9: =COUNTIF(D9:AH9,"P") | AJ9: =COUNTIF(D9:AH9,"HD") | AK9: =COUNTIF(D9:AH9,"L") | AL9: =COUNTIF(D9:AH9,"WO") | AM9: =COUNTIF(D9:AH9,"H") | AN9: =AI9+0.5*AJ9+AK9+AL9+AM9 | AO9: =IF(C9="","",ROUND(C9/Settings!$B$3,2)) | AP9: =IF(C9="","",ROUND(AO9*MIN(AN9,Settings!$B$2),0)) | AQ9: =IF(C9="","",C9-AP9) | AS9: =IF(OR(C9="",AR9=""),0,ROUND(AR9*(AO9/Settings!$B$5)*Settings!$B$4,0)) | AT9: =IF(C9="","",AP9+AS9)
AI10: =COUNTIF(D10:AH10,"P") | AJ10: =COUNTIF(D10:AH10,"HD") | AK10: =COUNTIF(D10:AH10,"L") | AL10: =COUNTIF(D10:AH10,"WO") | AM10: =COUNTIF(D10:AH10,"H") | AN10: =AI10+0.5*AJ10+AK10+AL10+AM10 | AO10: =IF(C10="","",ROUND(C10/Settings!$B$3,2)) | AP10: =IF(C10="","",ROUND(AO10*MIN(AN10,Settings!$B$2),0)) | AQ10: =IF(C10="","",C10-AP10) | AS10: =IF(OR(C10="",AR10=""),0,ROUND(AR10*(AO10/Settings!$B$5)*Settings!$B$4,0)) | AT10: =IF(C10="","",AP10+AS10)
AI11: =COUNTIF(D11:AH11,"P") | AJ11: =COUNTIF(D11:AH11,"HD") | AK11: =COUNTIF(D11:AH11,"L") | AL11: =COUNTIF(D11:AH11,"WO") | AM11: =COUNTIF(D11:AH11,"H") | AN11: =AI11+0.5*AJ11+AK11+AL11+AM11 | AO11: =IF(C11="","",ROUND(C11/Settings!$B$3,2)) | AP11: =IF(C11="","",ROUND(AO11*MIN(AN11,Settings!$B$2),0)) | AQ11: =IF(C11="","",C11-AP11) | AS11: =IF(OR(C11="",AR11=""),0,ROUND(AR11*(AO11/Settings!$B$5)*Settings!$B$4,0)) | AT11: =IF(C11="","",AP11+AS11)
AI12: =COUNTIF(D12:AH12,"P") | AJ12: =COUNTIF(D12:AH12,"HD") | AK12: =COUNTIF(D12:AH12,"L") | AL12: =COUNTIF(D12:AH12,"WO") | AM12: =COUNTIF(D12:AH12,"H") | AN12: =AI12+0.5*AJ12+AK12+AL12+AM12 | AO12: =IF(C12="","",ROUND(C12/Settings!$B$3,2)) | AP12: =IF(C12="","",ROUND(AO12*MIN(AN12,Settings!$B$2),0)) | AQ12: =IF(C12="","",C12-AP12) | AS12: =IF(OR(C12="",AR12=""),0,ROUND(AR12*(AO12/Settings!$B$5)*Settings!$B$4,0)) | AT12: =IF(C12="","",AP12+AS12)
AI13: =COUNTIF(D13:AH13,"P") | AJ13: =COUNTIF(D13:AH13,"HD") | AK13: =COUNTIF(D13:AH13,"L") | AL13: =COUNTIF(D13:AH13,"WO") | AM13: =COUNTIF(D13:AH13,"H") | AN13: =AI13+0.5*AJ13+AK13+AL13+AM13 | AO13: =IF(C13="","",ROUND(C13/Settings!$B$3,2)) | AP13: =IF(C13="","",ROUND(AO13*MIN(AN13,Settings!$B$2),0)) | AQ13: =IF(C13="","",C13-AP13) | AS13: =IF(OR(C13="",AR13=""),0,ROUND(AR13*(AO13/Settings!$B$5)*Settings!$B$4,0)) | AT13: =IF(C13="","",AP13+AS13)
AI14: =COUNTIF(D14:AH14,"P") | AJ14: =COUNTIF(D14:AH14,"HD") | AK14: =COUNTIF(D14:AH14,"L") | AL14: =COUNTIF(D14:AH14,"WO") | AM14: =COUNTIF(D14:AH14,"H") | AN14: =AI14+0.5*AJ14+AK14+AL14+AM14 | AO14: =IF(C14="","",ROUND(C14/Settings!$B$3,2)) | AP14: =IF(C14="","",ROUND(AO14*MIN(AN14,Settings!$B$2),0)) | AQ14: =IF(C14="","",C14-AP14) | AS14: =IF(OR(C14="",AR14=""),0,ROUND(AR14*(AO14/Settings!$B$5)*Settings!$B$4,0)) | AT14: =IF(C14="","",AP14+AS14)
AI15: =COUNTIF(D15:AH15,"P") | AJ15: =COUNTIF(D15:AH15,"HD") | AK15: =COUNTIF(D15:AH15,"L") | AL15: =COUNTIF(D15:AH15,"WO") | AM15: =COUNTIF(D15:AH15,"H") | AN15: =AI15+0.5*AJ15+AK15+AL15+AM15 | AO15: =IF(C15="","",ROUND(C15/Settings!$B$3,2)) | AP15: =IF(C15="","",ROUND(AO15*MIN(AN15,Settings!$B$2),0)) | AQ15: =IF(C15="","",C15-AP15) | AS15: =IF(OR(C15="",AR15=""),0,ROUND(AR15*(AO15/Settings!$B$5)*Settings!$B$4,0)) | AT15: =IF(C15="","",AP15+AS15)
AI16: =COUNTIF(D16:AH16,"P") | AJ16: =COUNTIF(D16:AH16,"HD") | AK16: =COUNTIF(D16:AH16,"L") | AL16: =COUNTIF(D16:AH16,"WO") | AM16: =COUNTIF(D16:AH16,"H") | AN16: =AI16+0.5*AJ16+AK16+AL16+AM16 | AO16: =IF(C16="","",ROUND(C16/Settings!$B$3,2)) | AP16: =IF(C16="","",ROUND(AO16*MIN(AN16,Settings!$B$2),0)) | AQ16: =IF(C16="","",C16-AP16) | AS16: =IF(OR(C16="",AR16=""),0,ROUND(AR16*(AO16/Settings!$B$5)*Settings!$B$4,0)) | AT16: =IF(C16="","",AP16+AS16)
AI17: =COUNTIF(D17:AH17,"P") | AJ17: =COUNTIF(D17:AH17,"HD") | AK17: =COUNTIF(D17:AH17,"L") | AL17: =COUNTIF(D17:AH17,"WO") | AM17: =COUNTIF(D17:AH17,"H") | AN17: =AI17+0.5*AJ17+AK17+AL17+AM17 | AO17: =IF(C17="","",ROUND(C17/Settings!$B$3,2)) | AP17: =IF(C17="","",ROUND(AO17*MIN(AN17,Settings!$B$2),0)) | AQ17: =IF(C17="","",C17-AP17) | AS17: =IF(OR(C17="",AR17=""),0,ROUND(AR17*(AO17/Settings!$B$5)*Settings!$B$4,0)) | AT17: =IF(C17="","",AP17+AS17)
AI18: =COUNTIF(D18:AH18,"P") | AJ18: =COUNTIF(D18:AH18,"HD") | AK18: =COUNTIF(D18:AH18,"L") | AL18: =COUNTIF(D18:AH18,"WO") | AM18: =COUNTIF(D18:AH18,"H") | AN18: =AI18+0.5*AJ18+AK18+AL18+AM18 | AO18: =IF(C18="","",ROUND(C18/Settings!$B$3,2)) | AP18: =IF(C18="","",ROUND(AO18*MIN(AN18,Settings!$B$2),0)) | AQ18: =IF(C18="","",C18-AP18) | AS18: =IF(OR(C18="",AR18=""),0,ROUND(AR18*(AO18/Settings!$B$5)*Settings!$B$4,0)) | AT18: =IF(C18="","",AP18+AS18)
... AI46: =COUNTIF(D46:AH46,"P") | AJ46: =COUNTIF(D46:AH46,"HD") | AK46: =COUNTIF(D46:AH46,"L") | AL46: =COUNTIF(D46:AH46,"WO") | AM46: =COUNTIF(D46:AH46,"H") | AN46: =AI46+0.5*AJ46+AK46+AL46+AM46 | AO46: =IF(C46="","",ROUND(C46/Settings!$B$3,2)) | AP46: =IF(C46="","",ROUND(AO46*MIN(AN46,Settings!$B$2),0)) | AQ46: =IF(C46="","",C46-AP46) | AS46: =IF(OR(C46="",AR46=""),0,ROUND(AR46*(AO46/Settings!$B$5)*Settings!$B$4,0)) | AT46: =IF(C46="","",AP46+AS46)

Sheet Settings
A1: Setting | B1: Value
A2: Days in month | B2: 30
A3: Divisor for per-day rate (calendar days / 30 / 26) | B3: 30
A4: OT multiplier | B4: 2
A5: Hours per day | B5: 8
